BEGIN:VCALENDAR
VERSION:2.0
PRODID:-//ChamberMaster//Event Calendar 2.0//EN
METHOD:PUBLISH
X-PUBLISHED-TTL:P3D
REFRESH-INTERVAL:P3D
CALSCALE:GREGORIAN
BEGIN:VEVENT
DTSTART:20250617T140000Z
DTEND:20250617T150000Z
X-MICROSOFT-CDO-ALLDAYEVENT:FALSE
SUMMARY:Community Celebration marking the completion of Phase One of the Historic Marion Avenue Cemetery Restoration Project
DESCRIPTION:The City of Hartsville cordially invites the public to a community celebration marking the completion of Phase One of the Historic Marion Avenue Cemetery Restoration Project. This meaningful milestone honors the legacy of those who came before us while reflecting the city?s continued commitment to preservation and civic pride.
X-ALT-DESC;FMTTYPE=text/html:<span style="background-color:rgb(255\, 255\, 255)\; color:rgb(8\, 8\, 9)\; font-family:segoe ui historic\,segoe ui\,helvetica\,arial\,sans-serif\; font-size:15px">The City of Hartsville cordially invites the public to a community celebration marking the completion of Phase One of the Historic Marion Avenue Cemetery Restoration Project. This meaningful milestone honors the legacy of those who came before us while reflecting the city?s continued commitment to preservation and civic pride.</span>
LOCATION:Marion Avenue Cemetery\, Hartsville\, South Carolina
UID:e.2045.3372
SEQUENCE:3
DTSTAMP:20260425T013903Z
URL:https://www.hartsvillechamber.org/events/details/community-celebration-marking-the-completion-of-phase-one-of-the-historic-marion-avenue-cemetery-restoration-project-3372
END:VEVENT

END:VCALENDAR
