BEGIN:VCALENDAR
VERSION:2.0
PRODID:-//ChamberMaster//Event Calendar 2.0//EN
METHOD:PUBLISH
X-PUBLISHED-TTL:P3D
REFRESH-INTERVAL:P3D
CALSCALE:GREGORIAN
BEGIN:VEVENT
DTSTART:20250326T130000Z
DTEND:20250401T170000Z
X-MICROSOFT-CDO-ALLDAYEVENT:FALSE
SUMMARY:Community Shred Day
DESCRIPTION:Lighten your load this Spring\, courtesy of SPC & Shur Shred!\n\nOur Community Shred Days are coming BACK to Florence\, Darlington\, & Hartsville. \n\nHere's what you can expect:\n\nFlorence: Wednesday\, March 26 from 9-11am\n\nDarlington: Wednesday\, March 26 from 1-3pm\n\nHartsville: Tuesday\, April 1 from 10am-1pm\n\n\n\nPersonal items only\, please! Businesses wishing to have documents shredded should contact Shur Shred directly at (843) 779-9429
X-ALT-DESC;FMTTYPE=text/html:<p><strong><em>Lighten your load this Spring\, courtesy of SPC &amp\; Shur Shred!</em><br />\nOur Community Shred Days are coming BACK to Florence\, Darlington\, &amp\; Hartsville. </strong></p>\n\n<p><strong>Here&#39\;s what you can expect:<br />\nFlorence: Wednesday\, March 26 from 9-11am<br />\nDarlington: Wednesday\, March 26 from 1-3pm<br />\nHartsville: Tuesday\, April 1 from 10am-1pm</strong></p>\n\n<p><br />\n<strong><em>Personal items only\, please! Businesses wishing to have documents shredded should contact Shur Shred directly at (843) 779-9429</em></strong></p>\n
LOCATION:SPC Credit Union's Florence branch\; 1312 Celebration Blvd. SPC CU's Darlington branch\; 609 N. Main St. SPC CU's Hartsville office: 204 N. 5th St.
UID:e.2045.3280
SEQUENCE:3
DTSTAMP:20260424T184749Z
URL:https://www.hartsvillechamber.org/events/details/community-shred-day-3280
END:VEVENT

END:VCALENDAR
