BEGIN:VCALENDAR
VERSION:2.0
PRODID:-//ChamberMaster//Event Calendar 2.0//EN
METHOD:PUBLISH
X-PUBLISHED-TTL:P3D
REFRESH-INTERVAL:P3D
CALSCALE:GREGORIAN
BEGIN:VEVENT
DTSTART:20250620T220000Z
DTEND:20250621T010000Z
X-MICROSOFT-CDO-ALLDAYEVENT:FALSE
SUMMARY:Concert on College featuring Chocolate Chip Band & Company!
DESCRIPTION:Don?t miss the best party in town! Join us NEXT FRIDAY from 6?9 PM under the lights on College Avenue for our Concert on College featuring fan favorite CC & Company BAND! Bring your chairs\, your friends\, and your dancing shoes!\n\n\n\nThank you to our generous sponsors Sonoco\, Duke Energy\, and CareSouth Carolina for making it possible!
X-ALT-DESC;FMTTYPE=text/html:<div>\n<div>Don?t miss the best party in town! Join us NEXT FRIDAY from 6?9 PM under the lights on College Avenue for our Concert on College featuring fan favorite <span style="font-family:inherit"><a class="x1i10hfl xjbqb8w x1ejq31n x18oe1m7 x1sy0etr xstzfhl x972fbf x10w94by x1qhh985 x14e42zd x9f619 x1ypdohk xt0psk2 xe8uvvx xdj266r x14z9mp xat24cr x1lziwak xexx8yu xyri2b x18d9i69 x1c1uobl x16tdsg8 x1hl2dhg xggy1nq x1a2a7pz xkrqix3 x1sur9pj x1fey0fg x1s688f" href="https://www.facebook.com/profile.php?id=100063557954596&amp\;__cft__[0]=AZVMCIfVoCXw01KOa3WXTs4afOdQoT7PyBjSaGBTU-jJsxN5a5japiS23QqM3uDm7dkyPa43_AJfHYHwo4mdHnIxWzecTQ2_q-Ju0ryb-PebgBUBB-auEVrf7O-yd-71I9wzBEWgDvwEeTzwcq6RPhXu3awg8SYQXBzmzfsKV_0jAENYK1xCp_C-NMT78-dtxo7IKqHovEpEOSRGCj4zmZQD&amp\;__tn__=-]K-R" style="color: rgb(0\, 100\, 209)\; cursor: pointer\; text-decoration-line: none\; list-style: none\; border-width: 0px\; margin: 0px\; text-align: inherit\; border-style: none\; padding: 0px\; box-sizing: border-box\; outline: none\; -webkit-tap-highlight-color: transparent\; font-weight: 600\; touch-action: manipulation\; background-color: transparent\; display: inline\; font-family: inherit\;" tabindex="0"><span style="font-family:inherit">CC &amp\; Company BAND</span></a></span>! Bring your chairs\, your friends\, and your dancing shoes!</div>\n</div>\n\n<div>\n<div>Thank you to our generous sponsors <span style="font-family:inherit"><a class="x1i10hfl xjbqb8w x1ejq31n x18oe1m7 x1sy0etr xstzfhl x972fbf x10w94by x1qhh985 x14e42zd x9f619 x1ypdohk xt0psk2 xe8uvvx xdj266r x14z9mp xat24cr x1lziwak xexx8yu xyri2b x18d9i69 x1c1uobl x16tdsg8 x1hl2dhg xggy1nq x1a2a7pz xkrqix3 x1sur9pj x1fey0fg x1s688f" href="https://www.facebook.com/sonoco.products?__cft__[0]=AZVMCIfVoCXw01KOa3WXTs4afOdQoT7PyBjSaGBTU-jJsxN5a5japiS23QqM3uDm7dkyPa43_AJfHYHwo4mdHnIxWzecTQ2_q-Ju0ryb-PebgBUBB-auEVrf7O-yd-71I9wzBEWgDvwEeTzwcq6RPhXu3awg8SYQXBzmzfsKV_0jAENYK1xCp_C-NMT78-dtxo7IKqHovEpEOSRGCj4zmZQD&amp\;__tn__=-]K-R" style="color: rgb(0\, 100\, 209)\; cursor: pointer\; text-decoration-line: none\; list-style: none\; border-width: 0px\; margin: 0px\; text-align: inherit\; border-style: none\; padding: 0px\; box-sizing: border-box\; outline: none\; -webkit-tap-highlight-color: transparent\; font-weight: 600\; touch-action: manipulation\; background-color: transparent\; display: inline\; font-family: inherit\;" tabindex="0"><span style="font-family:inherit">Sonoco</span></a></span>\, <span style="font-family:inherit"><a class="x1i10hfl xjbqb8w x1ejq31n x18oe1m7 x1sy0etr xstzfhl x972fbf x10w94by x1qhh985 x14e42zd x9f619 x1ypdohk xt0psk2 xe8uvvx xdj266r x14z9mp xat24cr x1lziwak xexx8yu xyri2b x18d9i69 x1c1uobl x16tdsg8 x1hl2dhg xggy1nq x1a2a7pz xkrqix3 x1sur9pj x1fey0fg x1s688f" href="https://www.facebook.com/duke.energy?__cft__[0]=AZVMCIfVoCXw01KOa3WXTs4afOdQoT7PyBjSaGBTU-jJsxN5a5japiS23QqM3uDm7dkyPa43_AJfHYHwo4mdHnIxWzecTQ2_q-Ju0ryb-PebgBUBB-auEVrf7O-yd-71I9wzBEWgDvwEeTzwcq6RPhXu3awg8SYQXBzmzfsKV_0jAENYK1xCp_C-NMT78-dtxo7IKqHovEpEOSRGCj4zmZQD&amp\;__tn__=-]K-R" style="color: rgb(0\, 100\, 209)\; cursor: pointer\; text-decoration-line: none\; list-style: none\; border-width: 0px\; margin: 0px\; text-align: inherit\; border-style: none\; padding: 0px\; box-sizing: border-box\; outline: none\; -webkit-tap-highlight-color: transparent\; font-weight: 600\; touch-action: manipulation\; background-color: transparent\; display: inline\; font-family: inherit\;" tabindex="0"><span style="font-family:inherit">Duke Energy</span></a></span>\, and <span style="font-family:inherit"><a class="x1i10hfl xjbqb8w x1ejq31n x18oe1m7 x1sy0etr xstzfhl x972fbf x10w94by x1qhh985 x14e42zd x9f619 x1ypdohk xt0psk2 xe8uvvx xdj266r x14z9mp xat24cr x1lziwak xexx8yu xyri2b x18d9i69 x1c1uobl x16tdsg8 x1hl2dhg xggy1nq x1a2a7pz xkrqix3 x1sur9pj x1fey0fg x1s688f" href="https://www.facebook.com/CareSouthCarolinaInc?__cft__[0]=AZVMCIfVoCXw01KOa3WXTs4afOdQoT7PyBjSaGBTU-jJsxN5a5japiS23QqM3uDm7dkyPa43_AJfHYHwo4mdHnIxWzecTQ2_q-Ju0ryb-PebgBUBB-auEVrf7O-yd-71I9wzBEWgDvwEeTzwcq6RPhXu3awg8SYQXBzmzfsKV_0jAENYK1xCp_C-NMT78-dtxo7IKqHovEpEOSRGCj4zmZQD&amp\;__tn__=-]K-R" style="color: rgb(0\, 100\, 209)\; cursor: pointer\; text-decoration-line: none\; list-style: none\; border-width: 0px\; margin: 0px\; text-align: inherit\; border-style: none\; padding: 0px\; box-sizing: border-box\; outline: none\; -webkit-tap-highlight-color: transparent\; font-weight: 600\; touch-action: manipulation\; background-color: transparent\; display: inline\; font-family: inherit\;" tabindex="0"><span style="font-family:inherit">CareSouth Carolina</span></a></span> for making it possible!</div>\n</div>\n
LOCATION:Under the Lights on College Avenue\, Hartsville\, SC
UID:e.2045.3373
SEQUENCE:3
DTSTAMP:20260424T214035Z
URL:https://www.hartsvillechamber.org/events/details/concert-on-college-featuring-chocolate-chip-band-company-3373
END:VEVENT

END:VCALENDAR
