BEGIN:VCALENDAR
VERSION:2.0
PRODID:-//ChamberMaster//Event Calendar 2.0//EN
METHOD:PUBLISH
X-PUBLISHED-TTL:P3D
REFRESH-INTERVAL:P3D
CALSCALE:GREGORIAN
BEGIN:VEVENT
DTSTART;VALUE=DATE:20250831
DTEND;VALUE=DATE:20250901
TRANSP:TRANSPARENT
X-MICROSOFT-CDO-ALLDAYEVENT:TRUE
SUMMARY:Cook Out Southern 500
DESCRIPTION:IT BEGINS AT DARLINGTON! Don't miss the kickoff to the NASCAR Cup Series Playoffs at the track Too Tough To Tame!
X-ALT-DESC;FMTTYPE=text/html:&nbsp\;IT BEGINS AT DARLINGTON! Don&#39\;t miss the kickoff to the NASCAR Cup Series Playoffs at the track Too Tough To Tame!&nbsp\;
LOCATION:Darlington Raceway
UID:e.2045.3325
SEQUENCE:3
DTSTAMP:20260423T134635Z
URL:https://www.hartsvillechamber.org/events/details/cook-out-southern-500-08-31-2025-3325
END:VEVENT

END:VCALENDAR
