BEGIN:VCALENDAR
VERSION:2.0
PRODID:-//ChamberMaster//Event Calendar 2.0//EN
METHOD:PUBLISH
X-PUBLISHED-TTL:P3D
REFRESH-INTERVAL:P3D
CALSCALE:GREGORIAN
BEGIN:VEVENT
DTSTART:20250618T160000Z
DTEND:20250618T170000Z
X-MICROSOFT-CDO-ALLDAYEVENT:FALSE
SUMMARY:Cultivating Knowledge: A Lecture Series\, Using Pesticides Safely and Effectively
DESCRIPTION:Kalmia Gardens presents its new adult education series\, Cultivating Knowledge: A Lecture Series.\n\n\n\nJoin Brad Fowler\, Urban Horticulture Agent and Master Gardener Coordinator for Horry and Georgetown counties for his presentation in Kalmia Gardens' new adult education series\, Cultivating Knowledge: A Lecture Series\, at the Joslin Education Center. Pre-registration is required and tickets may be purchased for $5 here.\n\n\n\nBrad will be presenting his lecture Using Pesticides Safely and Effectively. Using pesticides in the landscape can be intimidating but may be necessary depending on the severity of the problem.  The most important thing to remember when using pesticides is to be safe.  We will discuss reading labels\, safety precautions\, and possible pesticide alternatives so that you can be confident when addressing issues in the landscape.\n\n\n\nBrad Fowler is the Urban Horticulture Agent and Master Gardener Coordinator for Horry and Georgetown counties. Prior to working for Clemson Extension\, Brad worked as a horticulturist for Brookgreen Gardens and as the manager for a local landscape company.\n\n\n\nThe Joslin Education Center is located at 1520 W. Carolina Avenue\, Hartsville\, SC 29550.
X-ALT-DESC;FMTTYPE=text/html:<p>Kalmia Gardens presents its new adult education series\, Cultivating Knowledge: A Lecture Series.<br />\n<br />\nJoin Brad Fowler\, Urban Horticulture Agent and Master Gardener Coordinator for Horry and Georgetown counties for his presentation in Kalmia Gardens&rsquo\; new adult education series\, Cultivating Knowledge: A Lecture Series\, at the Joslin Education Center. Pre-registration is required and tickets may be purchased for $5&nbsp\;<a href="https://book.stripe.com/8wM14ffv81JKb0Q3cm" style="box-sizing: border-box\; color: rgb(0\, 69\, 124)\; font-weight: 700\;">here</a><a href="https://book.stripe.com/8wM14ffv81JKb0Q3cm">.</a><br />\n<br />\nBrad will be presenting his lecture Using<em>&nbsp\;Pesticides Safely and Effectively.&nbsp\;</em>Using pesticides in the landscape can be intimidating but may be necessary depending on the severity of the problem. &nbsp\;The most important thing to remember when using pesticides is to be safe. &nbsp\;We will discuss reading labels\, safety precautions\, and possible pesticide alternatives so that you can be confident when addressing issues in the landscape.<br />\n<br />\nBrad Fowler is the Urban Horticulture Agent and Master Gardener Coordinator for Horry and Georgetown counties. Prior to working for Clemson Extension\, Brad worked as a horticulturist for Brookgreen Gardens and as the manager for a local landscape company.<br />\n<br />\nThe Joslin Education Center is located at 1520 W. Carolina Avenue\, Hartsville\, SC 29550.</p>\n
LOCATION:The Joslin Education Center at Kalmia Gardens 1520 W. Carolina Avenue Hartsville\, SC 29550
UID:e.2045.3335
SEQUENCE:3
DTSTAMP:20260425T013331Z
URL:https://www.hartsvillechamber.org/events/details/cultivating-knowledge-a-lecture-series-using-pesticides-safely-and-effectively-3335
END:VEVENT

END:VCALENDAR
