BEGIN:VCALENDAR
VERSION:2.0
PRODID:-//ChamberMaster//Event Calendar 2.0//EN
METHOD:PUBLISH
X-PUBLISHED-TTL:P3D
REFRESH-INTERVAL:P3D
CALSCALE:GREGORIAN
BEGIN:VEVENT
DTSTART:20251115T140000Z
DTEND:20251115T190000Z
X-MICROSOFT-CDO-ALLDAYEVENT:FALSE
SUMMARY:Darlington Raceway Garage Sale
DESCRIPTION:On Saturday\, November 15\, from 9 a.m. until 2 p.m.\, Darlington Raceway will open its doors for a one-day Garage Sale featuring a variety of retired track treasures. From vintage signage and d cor to unique memorabilia and more\, this is your chance to own a piece of history. Quantities are limited\, so arrive early and snag your slice of Darlington history before it's gone!
X-ALT-DESC;FMTTYPE=text/html:<div>On Saturday\, November 15\, from 9 a.m. until 2 p.m.\, Darlington Raceway will open its doors for a one-day Garage Sale featuring a variety of retired track treasures. From vintage signage and d&eacute\;cor to unique memorabilia and more\, this is your chance to own a piece of history. Quantities are limited\, so arrive early and snag your slice of Darlington history before it&rsquo\;s gone!</div>\n
LOCATION:Darlington Raceway
UID:e.2045.3440
SEQUENCE:3
DTSTAMP:20260425T105152Z
URL:https://www.hartsvillechamber.org/events/details/darlington-raceway-garage-sale-11-15-2025-3440
END:VEVENT

END:VCALENDAR
