BEGIN:VCALENDAR
VERSION:2.0
PRODID:-//ChamberMaster//Event Calendar 2.0//EN
METHOD:PUBLISH
X-PUBLISHED-TTL:P3D
REFRESH-INTERVAL:P3D
CALSCALE:GREGORIAN
BEGIN:VEVENT
DTSTART:20250608T173000Z
DTEND:20250608T200000Z
X-MICROSOFT-CDO-ALLDAYEVENT:FALSE
SUMMARY:Darlington Raceway Watch Party
DESCRIPTION:Join us Sunday\, June 8 at 1:30 p.m. at Doughlicious in downtown Darlington for the Firekeepers Casino 400! Don't miss your chance to win cool Darlington Raceway merchandise and tickets to the upcoming NASCAR Playoffs Weekend!
X-ALT-DESC;FMTTYPE=text/html:<span style="color:rgb(0\, 0\, 0)\; font-family:figtree\,sans-serif\; font-size:15.988px">Join us Sunday\, June 8 at 1:30 p.m. at Doughlicious in downtown Darlington for the Firekeepers Casino 400! Don&#39\;t miss your chance to win cool Darlington Raceway merchandise and tickets to the upcoming NASCAR Playoffs Weekend!</span>
LOCATION:Doughlicious Pizza On The Square 48 Public Square Darlington\, SC 29532
UID:e.2045.3355
SEQUENCE:3
DTSTAMP:20260425T013326Z
URL:https://www.hartsvillechamber.org/events/details/darlington-raceway-watch-party-3355
END:VEVENT

END:VCALENDAR
