BEGIN:VCALENDAR
VERSION:2.0
PRODID:-//ChamberMaster//Event Calendar 2.0//EN
METHOD:PUBLISH
X-PUBLISHED-TTL:P3D
REFRESH-INTERVAL:P3D
CALSCALE:GREGORIAN
BEGIN:VEVENT
DTSTART;VALUE=DATE:20241104
DTEND;VALUE=DATE:20241123
TRANSP:TRANSPARENT
X-MICROSOFT-CDO-ALLDAYEVENT:TRUE
SUMMARY:Diana Noh: Fringe Effect
DESCRIPTION:November 4   22: Diana Noh: Fringe Effect\, Cecelia Coker Bell Gallery\n\nInterdisciplinary artist Diana Noh works with photography\, fiber\, and installation. In "Fringe Effect"\, Noh reconstructs distressed photographs of abandoned spaces and landscapes to explore the trauma of growing up between two different cultures in a Korean-American home. Photographic images are torn\, burned\, stitched\, sewn\, and restored to represent the artist's recovery process.\n\nMonday-Friday\n\n10am-4pm
X-ALT-DESC;FMTTYPE=text/html:<p><strong>November 4 &ndash\; 22:</strong>&nbsp\;<strong>Diana Noh:&nbsp\;<em>Fringe Effect\,&nbsp\;</em>Cecelia Coker Bell Gallery</strong><br />\nInterdisciplinary artist Diana Noh works with photography\, fiber\, and installation. In &ldquo\;Fringe Effect&rdquo\;\, Noh reconstructs distressed photographs of abandoned spaces and landscapes to explore the trauma of growing up between two different cultures in a Korean-American home. Photographic images are torn\, burned\, stitched\, sewn\, and restored to represent the artist&rsquo\;s recovery process.<br />\nMonday-Friday<br />\n10am-4pm</p>\n
LOCATION:Cecelia Coker Bell Gallery
UID:e.2045.3027
SEQUENCE:3
DTSTAMP:20260425T031801Z
URL:https://www.hartsvillechamber.org/events/details/diana-noh-fringe-effect-3027
END:VEVENT

END:VCALENDAR
