BEGIN:VCALENDAR
VERSION:2.0
PRODID:-//ChamberMaster//Event Calendar 2.0//EN
METHOD:PUBLISH
X-PUBLISHED-TTL:P3D
REFRESH-INTERVAL:P3D
CALSCALE:GREGORIAN
BEGIN:VEVENT
DTSTART:20240504T170000Z
DTEND:20240504T190000Z
X-MICROSOFT-CDO-ALLDAYEVENT:FALSE
SUMMARY:"Disaster Preparedness: Know it Before You Need It”.
DESCRIPTION:As a public service\, the Hartsville Alumnae Chapter of Delta Sigma Theta Sorority Inc. will host a community Disaster Preparedness meeting entitled "Disaster Preparedness: Know it Before You Need It". The meeting is open to all interested residents of Darlington County.  We will feature speakers from Darlington County Emergency Management\, American Red Cross\, Duke Energy Corporation\, Darlington County Long-term Recovery Group\, as well as others first responders. Attendees will also have an opportunity to meet individually with speakers to gather information and ask questions. Admission is free.
X-ALT-DESC;FMTTYPE=text/html:<span style="font-size:12.0pt">As a public service\, the Hartsville Alumnae Chapter of Delta Sigma Theta Sorority Inc. will host a community Disaster Preparedness meeting entitled &ldquo\;Disaster Preparedness: Know it Before You Need It&rdquo\;. The meeting is open to all interested residents of Darlington County.&nbsp\; We will feature speakers from Darlington County Emergency Management\, American Red Cross\, Duke Energy Corporation\, Darlington County Long-term Recovery Group\, as well as others first responders. Attendees will also have an opportunity to meet individually with speakers to gather information and ask questions. Admission is free.</span>
LOCATION:Butler Heritage Foundation Gymnatorium 1103 S. 6th Street Hartsville S.C. 29550
UID:e.2045.2727
SEQUENCE:3
DTSTAMP:20260425T142047Z
URL:https://www.hartsvillechamber.org/events/details/disaster-preparedness-know-it-before-you-need-it-2727
END:VEVENT

END:VCALENDAR
