BEGIN:VCALENDAR
VERSION:2.0
PRODID:-//ChamberMaster//Event Calendar 2.0//EN
METHOD:PUBLISH
X-PUBLISHED-TTL:P3D
REFRESH-INTERVAL:P3D
CALSCALE:GREGORIAN
BEGIN:VEVENT
DTSTART:20250517T140000Z
DTEND:20250517T190000Z
X-MICROSOFT-CDO-ALLDAYEVENT:FALSE
SUMMARY:Dodgeball Tournament - 3rd Annual
DESCRIPTION:Join us at our beautiful 5-acre Outdoor Education Center for a Dodgeball Tournament to benefit Positive Youth Development. \n\n	Enjoy an afternoon of food\, beverages\, and FUN ?for the whole family!\n	Food and beverages will be available for purchase.\n	Enter a team of 6 - 10 players!\n\n\nOr simply bring a lawn chair for watching the dodgeball tournament.\n\n\n\nMore details coming soon.
X-ALT-DESC;FMTTYPE=text/html:<span style="color:rgb(0\, 0\, 0)\; font-family:arial\,sans-serif\; font-size:12pt">Join us at our beautiful 5-acre Outdoor Education Center for a</span>&nbsp\;<span style="color:rgb(0\, 0\, 0)"><span style="font-family:arial\,sans-serif\; font-size:12pt">Dodgeball Tournament to benefit Positive Youth Development.&nbsp\;</span></span>\n<ul>\n	<li><span style="font-size:16px">Enjoy an afternoon of <strong>food</strong>\, <strong>beverages</strong>\, and <strong>FUN&nbsp\;</strong>?for the whole family!</span></li>\n	<li><span style="color:rgb(0\, 0\, 0)"><span style="font-family:arial\,sans-serif\; font-size:12pt">Food and beverages will be available for purchase.</span></span></li>\n	<li><span style="color:rgb(0\, 0\, 0)\; font-family:arial\,sans-serif\; font-size:12pt">Enter a team of 6 - 10 players!</span></li>\n</ul>\n\n<p><span style="color:rgb(0\, 0\, 0)\; font-family:arial\,sans-serif\; font-size:12pt">Or simply bring a lawn chair for watching the dodgeball tournament.<br />\n<br />\nMore details coming soon.</span></p>\n
LOCATION:Cypress Adventures Outdoor Education Center 881 Loblolly Ln Hartsville\, SC 29550
UID:e.2045.3219
SEQUENCE:3
DTSTAMP:20260424T200713Z
URL:https://www.hartsvillechamber.org/events/details/dodgeball-tournament-3rd-annual-3219
END:VEVENT

END:VCALENDAR
