BEGIN:VCALENDAR
VERSION:2.0
PRODID:-//ChamberMaster//Event Calendar 2.0//EN
METHOD:PUBLISH
X-PUBLISHED-TTL:P3D
REFRESH-INTERVAL:P3D
CALSCALE:GREGORIAN
BEGIN:VEVENT
DTSTART:20250716T220000Z
DTEND:20250717T010000Z
X-MICROSOFT-CDO-ALLDAYEVENT:FALSE
SUMMARY:Dog Days of Summer Hot Dog Festival
DESCRIPTION:Frankly\, you won?t want to miss this! Hartsville?s first-ever Dog Days of Summer Hotdog Festival is rolling into Burry Park on National Hot Dog Day\, Wednesday\, July 16\, 2025! Come celebrate with free hotdogs\, music\, and a special appearance by the legendary Oscar Mayer Wienermobile!\n\n \n\n\n\nThank you to our sponsors: Sonoco\, CareSouth Carolina\, Pepsi of Florence\, and Darlington Raceway!!!
X-ALT-DESC;FMTTYPE=text/html:<div>\n<div>Frankly\, you won?t want to miss this! Hartsville?s first-ever <strong>Dog Days of Summer Hotdog Festival </strong>is rolling into Burry Park on National Hot Dog Day\, Wednesday\, July 16\, 2025! Come celebrate with free hotdogs\, music\, and a special appearance by the legendary <strong>Oscar Mayer Wienermobile!</strong><br>\n&nbsp\;</div>\n</div>\n\n<div>\n<div>Thank you to our sponsors: <span style="font-family:inherit"><a class="x1i10hfl xjbqb8w x1ejq31n x18oe1m7 x1sy0etr xstzfhl x972fbf x10w94by x1qhh985 x14e42zd x9f619 x1ypdohk xt0psk2 xe8uvvx xdj266r x14z9mp xat24cr x1lziwak xexx8yu xyri2b x18d9i69 x1c1uobl x16tdsg8 x1hl2dhg xggy1nq x1a2a7pz xkrqix3 x1sur9pj x1fey0fg x1s688f" href="https://www.facebook.com/sonoco.products?__cft__[0]=AZVs2HZQR5MtrqIamCChY06zbDKHj6VuEsG8fnH9I8lSleFejVAoH18h6rZrIC67OD_M1h36Ir55_JwKlyA4Ela9lwAE9xy4q-Bdo8ArQZdtQRhQPA_LucoNc6aW8bJh4GeNyn2ortPuXRo7g6ZTp7DeBvU6LaNAnY3n4e0EUqo8Rg&amp\;__tn__=-]K-R" style="color: rgb(0\, 100\, 209)\; cursor: pointer\; text-decoration-line: none\; list-style: none\; border-width: 0px\; margin: 0px\; text-align: inherit\; border-style: none\; padding: 0px\; box-sizing: border-box\; background-color: transparent\; outline: none\; -webkit-tap-highlight-color: transparent\; font-weight: 600\; touch-action: manipulation\; display: inline\; font-family: inherit\;" tabindex="0"><span style="font-family:inherit">Sonoco</span></a></span>\, <span style="font-family:inherit"><a class="x1i10hfl xjbqb8w x1ejq31n x18oe1m7 x1sy0etr xstzfhl x972fbf x10w94by x1qhh985 x14e42zd x9f619 x1ypdohk xt0psk2 xe8uvvx xdj266r x14z9mp xat24cr x1lziwak xexx8yu xyri2b x18d9i69 x1c1uobl x16tdsg8 x1hl2dhg xggy1nq x1a2a7pz xkrqix3 x1sur9pj x1fey0fg x1s688f" href="https://www.facebook.com/CareSouthCarolinaInc?__cft__[0]=AZVs2HZQR5MtrqIamCChY06zbDKHj6VuEsG8fnH9I8lSleFejVAoH18h6rZrIC67OD_M1h36Ir55_JwKlyA4Ela9lwAE9xy4q-Bdo8ArQZdtQRhQPA_LucoNc6aW8bJh4GeNyn2ortPuXRo7g6ZTp7DeBvU6LaNAnY3n4e0EUqo8Rg&amp\;__tn__=-]K-R" style="color: rgb(0\, 100\, 209)\; cursor: pointer\; text-decoration-line: none\; list-style: none\; border-width: 0px\; margin: 0px\; text-align: inherit\; border-style: none\; padding: 0px\; box-sizing: border-box\; background-color: transparent\; outline: none\; -webkit-tap-highlight-color: transparent\; font-weight: 600\; touch-action: manipulation\; display: inline\; font-family: inherit\;" tabindex="0"><span style="font-family:inherit">CareSouth Carolina</span></a></span>\, <span style="font-family:inherit"><a class="x1i10hfl xjbqb8w x1ejq31n x18oe1m7 x1sy0etr xstzfhl x972fbf x10w94by x1qhh985 x14e42zd x9f619 x1ypdohk xt0psk2 xe8uvvx xdj266r x14z9mp xat24cr x1lziwak xexx8yu xyri2b x18d9i69 x1c1uobl x16tdsg8 x1hl2dhg xggy1nq x1a2a7pz xkrqix3 x1sur9pj x1fey0fg x1s688f" href="https://www.facebook.com/PepsiFlorenceSC?__cft__[0]=AZVs2HZQR5MtrqIamCChY06zbDKHj6VuEsG8fnH9I8lSleFejVAoH18h6rZrIC67OD_M1h36Ir55_JwKlyA4Ela9lwAE9xy4q-Bdo8ArQZdtQRhQPA_LucoNc6aW8bJh4GeNyn2ortPuXRo7g6ZTp7DeBvU6LaNAnY3n4e0EUqo8Rg&amp\;__tn__=-]K-R" style="color: rgb(0\, 100\, 209)\; cursor: pointer\; text-decoration-line: none\; list-style: none\; border-width: 0px\; margin: 0px\; text-align: inherit\; border-style: none\; padding: 0px\; box-sizing: border-box\; background-color: transparent\; outline: none\; -webkit-tap-highlight-color: transparent\; font-weight: 600\; touch-action: manipulation\; display: inline\; font-family: inherit\;" tabindex="0"><span style="font-family:inherit">Pepsi of Florence</span></a></span>\, and <span style="font-family:inherit"><a class="x1i10hfl xjbqb8w x1ejq31n x18oe1m7 x1sy0etr xstzfhl x972fbf x10w94by x1qhh985 x14e42zd x9f619 x1ypdohk xt0psk2 xe8uvvx xdj266r x14z9mp xat24cr x1lziwak xexx8yu xyri2b x18d9i69 x1c1uobl x16tdsg8 x1hl2dhg xggy1nq x1a2a7pz xkrqix3 x1sur9pj x1fey0fg x1s688f" href="https://www.facebook.com/DarlingtonRaceway?__cft__[0]=AZVs2HZQR5MtrqIamCChY06zbDKHj6VuEsG8fnH9I8lSleFejVAoH18h6rZrIC67OD_M1h36Ir55_JwKlyA4Ela9lwAE9xy4q-Bdo8ArQZdtQRhQPA_LucoNc6aW8bJh4GeNyn2ortPuXRo7g6ZTp7DeBvU6LaNAnY3n4e0EUqo8Rg&amp\;__tn__=-]K-R" style="color: rgb(0\, 100\, 209)\; cursor: pointer\; text-decoration-line: none\; list-style: none\; border-width: 0px\; margin: 0px\; text-align: inherit\; border-style: none\; padding: 0px\; box-sizing: border-box\; background-color: transparent\; outline: none\; -webkit-tap-highlight-color: transparent\; font-weight: 600\; touch-action: manipulation\; display: inline\; font-family: inherit\;" tabindex="0"><span style="font-family:inherit">Darlington Raceway</span></a></span>!!!</div>\n</div>\n
LOCATION:Burry Park 131 Cargill Way Hartsville\, SC
UID:e.2045.3376
SEQUENCE:3
DTSTAMP:20260425T033837Z
URL:https://www.hartsvillechamber.org/events/details/dog-days-of-summer-hot-dog-festival-3376
END:VEVENT

END:VCALENDAR
