BEGIN:VCALENDAR
VERSION:2.0
PRODID:-//ChamberMaster//Event Calendar 2.0//EN
METHOD:PUBLISH
X-PUBLISHED-TTL:P3D
REFRESH-INTERVAL:P3D
CALSCALE:GREGORIAN
BEGIN:VEVENT
DTSTART:20250412T130000Z
DTEND:20250412T170000Z
X-MICROSOFT-CDO-ALLDAYEVENT:FALSE
SUMMARY:Downtown Farmers Market
DESCRIPTION:Applications for the 2025 Hartsville Farmers Market are now open!\n\n \n\n\n\nWe're looking for local farmers\, growers\, ready to eat vendors\, and artists to join us for this year's Hartsville Farmers Market. Priority will be given to local farmers who sell product\, meats\, eggs\, plants\, and other locally sourced goods. All applicants should review the 2025 Vendor Guide before applying. The guide\, as well as the application\, can be found at the link below. For questions relating to the Hartsville Farmers Market\, please reach out to staff at farmers.market@hartsvillesc.gov\n\n \n\n\n\nThis year's Hartsville Farmers Market will be from 9am-1pm and will run the 2nd Saturday of the month from April-October. Meet us under the shade of the trees on Cargill Way.\n\n \n\n\n\nhttps://mainstreethartsville.org/hartsville-farmers-market/
X-ALT-DESC;FMTTYPE=text/html:<div>\n<div>Applications for the 2025 Hartsville Farmers Market are now open!<br />\n&nbsp\;</div>\n</div>\n\n<div>\n<div>We&rsquo\;re looking for local farmers\, growers\, ready to eat vendors\, and artists to join us for this year&rsquo\;s Hartsville Farmers Market. Priority will be given to local farmers who sell product\, meats\, eggs\, plants\, and other locally sourced goods. All applicants should review the 2025 Vendor Guide before applying. The guide\, as well as the application\, can be found at the link below. For questions relating to the Hartsville Farmers Market\, please reach out to staff at farmers.market@hartsvillesc.gov<br />\n&nbsp\;</div>\n</div>\n\n<div>\n<div>This year&#39\;s Hartsville Farmers Market will be from 9am-1pm and will run the 2nd Saturday of the month from April-October. Meet us under the shade of the trees on Cargill Way.<br />\n&nbsp\;</div>\n</div>\n\n<div>\n<div><span style="font-family:inherit"><a class="x1i10hfl xjbqb8w x1ejq31n xd10rxx x1sy0etr x17r0tee x972fbf xcfux6l x1qhh985 xm0m39n x9f619 x1ypdohk xt0psk2 xe8uvvx xdj266r x11i5rnm xat24cr x1mh8g0r xexx8yu x4uap5 x18d9i69 xkhd6sd x16tdsg8 x1hl2dhg xggy1nq x1a2a7pz xkrqix3 x1sur9pj x1fey0fg x1s688f" href="https://l.facebook.com/l.php?u=https%3A%2F%2Fmainstreethartsville.org%2Fhartsville-farmers-market%2F%3Ffbclid%3DIwZXh0bgNhZW0CMTAAAR0_vQ6oaXLlkaAAZGxvx9g4J1vI6y3Vur5iZQ-dJ5wF7_yjRvoMfrPO83U_aem__YflI7XwQRlWwKrgLFoiKA&amp\;h=AT1IJ6GdIw8qz0TivIcSkxqXX0I6HMp6p0n0fKjvPRsK7IfvH39CZ5WogcU9PRoSCcv95C6nW83V8wLerw6k922jTD2Lkg9SV-Wb5iP6_VZtKuIesE1_RXWln11pSyWK_t7TKdo1zeHQTA&amp\;__tn__=-UK-R&amp\;c[0]=AT13_nv5Hr8DZysbGcp26j9Tr77yOTTX5q61AHU-b6Y9-1U_5EUb0JiUcrVEA9BbeXyvlhda9PCn9ve97ue4dXURGmAsPGATgKqfILB9CSFCOqtXspEUnTceHnq4k3Pgy_qty8XrnyKbtXD-ebU9xtj5UWzK96g-LgCNTRin1ER4kgZpvaAJU1AyB82nrVF8unj3Zw6y5VA6jVg4KkGUWtQUcA" rel="nofollow noreferrer" style="color: var(--blue-link)\; cursor: pointer\; text-decoration-line: none\; list-style: none\; margin: 0px\; text-align: inherit\; border-style: none\; padding: 0px\; box-sizing: border-box\; border-width: 0px\; outline: none\; -webkit-tap-highlight-color: transparent\; font-weight: 600\; touch-action: manipulation\; background-color: transparent\; display: inline\; font-family: inherit\;" tabindex="0" target="_blank">https://mainstreethartsville.org/hartsville-farmers-market/</a></span></div>\n</div>\n
LOCATION:
UID:e.2045.3291
SEQUENCE:3
DTSTAMP:20260424T184809Z
URL:https://www.hartsvillechamber.org/events/details/downtown-farmers-market-3291
END:VEVENT

END:VCALENDAR
