BEGIN:VCALENDAR
VERSION:2.0
PRODID:-//ChamberMaster//Event Calendar 2.0//EN
METHOD:PUBLISH
X-PUBLISHED-TTL:P3D
REFRESH-INTERVAL:P3D
CALSCALE:GREGORIAN
BEGIN:VEVENT
DTSTART:20250325T233000Z
DTEND:20250326T010000Z
X-MICROSOFT-CDO-ALLDAYEVENT:FALSE
SUMMARY:Dr. Elizabeth Holmes Faculty Recital
DESCRIPTION:March 25: Dr. Elizabeth Holmes Faculty Recital at the Hannah Coker Lide Recital Hall\, 7:30 p.m.\n\nJoin Dr. Holmes\, soprano\, and additional music faculty for a recital of vocal music in a variety of musical genres. In honor of Women's History Month\, Dr. Holmes will perform repertoire written by women composers.
X-ALT-DESC;FMTTYPE=text/html:<p><strong>March 25: Dr. Elizabeth Holmes Faculty Recital at the Hannah Coker Lide Recital Hall\, 7:30 p.m.</strong><br />\nJoin Dr. Holmes\, soprano\, and additional music faculty for a recital of vocal music in a variety of musical genres. In honor of Women&rsquo\;s History Month\, Dr. Holmes will perform repertoire written by women composers.</p>\n
LOCATION:Hannah Coker Lide Recital Hall
UID:e.2045.3044
SEQUENCE:3
DTSTAMP:20260424T202108Z
URL:https://www.hartsvillechamber.org/events/details/dr-elizabeth-holmes-faculty-recital-3044
END:VEVENT

END:VCALENDAR
