BEGIN:VCALENDAR
VERSION:2.0
PRODID:-//ChamberMaster//Event Calendar 2.0//EN
METHOD:PUBLISH
X-PUBLISHED-TTL:P3D
REFRESH-INTERVAL:P3D
CALSCALE:GREGORIAN
BEGIN:VEVENT
DTSTART:20250630T220000Z
DTEND:20250630T230000Z
X-MICROSOFT-CDO-ALLDAYEVENT:FALSE
SUMMARY:EMT Program Launch: Meet & Greet at Hartsville FDTC
DESCRIPTION:BECOME A LIFESAVER:\n\n\n\nEMT Program now enrolling at Florence-Darlington Technical College.\n\n\n\nFDTC is launching an Emergency Medical Technician (EMT) program at its Hartsville Campus. Gain the essential skills needed for this critical profession. \n\n\n\nJoin us for a meet & greet:\n\nMonday\, June 30 at 6:00pm\n\nHartsville Campus\n\n225 Swift Creek Road\n\nHartsville SC 29550\n\n\n\nPlease RSVP: https://fdtc.edu/program-interest-meeting/
X-ALT-DESC;FMTTYPE=text/html:BECOME A LIFESAVER:<br />\n<br />\nEMT Program now enrolling at Florence-Darlington Technical College.<br />\n<br />\nFDTC is launching an Emergency Medical Technician (EMT) program at its Hartsville Campus. Gain the essential skills needed for this critical profession.&nbsp\;<br />\n<br />\nJoin us for a meet &amp\; greet:<br />\nMonday\, June 30 at 6:00pm<br />\nHartsville Campus<br />\n225 Swift Creek Road<br />\nHartsville SC 29550<br />\n<br />\nPlease RSVP:&nbsp\;<a class="x1i10hfl xjbqb8w x1ejq31n x18oe1m7 x1sy0etr xstzfhl x972fbf x10w94by x1qhh985 x14e42zd x9f619 x1ypdohk xt0psk2 xe8uvvx xdj266r x14z9mp xat24cr x1lziwak xexx8yu xyri2b x18d9i69 x1c1uobl x16tdsg8 x1hl2dhg xggy1nq x1a2a7pz xkrqix3 x1sur9pj x1fey0fg x1s688f" href="https://l.facebook.com/l.php?u=https%3A%2F%2Ffdtc.edu%2Fprogram-interest-meeting%2F%3Ffbclid%3DIwZXh0bgNhZW0CMTAAYnJpZBExelA3NHJxeVVodGlScDV4NQEen36u6SAHwXheZrnANSSQKMGQUBKQqcxyFTJX7PbC8thvbw10LY19WatNr9Q_aem_YNaTc2lq4ylNs-NvOMweUQ&amp\;h=AT3v3jjEJ_IH2hjgfCxB5c19uQ_zkApRS8N4QmfuEKQkX9WwDJmx1D2cp_lmc07SdBO4uFT-j0J3a4jcEefEdSut514OfJL_uD5zWLZWww6-Uygt1_anOvJ04Fc8-O4Ex_Tq7N-KnvLt28MJ&amp\;__tn__=-UK-y-R&amp\;c[0]=AT3ABrmk-qgOWy1X3GyoAJwHqKQ9Y64VCP9Sky8WpTnkHmSvEZEdORWZ8lD5GPayEKfqKxmLdyDLdTli8jsWw89Hs5mCeAoOE7VvyuuD04ch5TYI-K72sWxfOc7-KhwCuc4ziVOwJ9QCwI-v669XsRFbTR6fOsh2f_AJjNxu9N5C85Nl740qfEXgEACU7g7stHPCeiRh5ZejVZRMuVWThHSP5Q" rel="nofollow noreferrer" style="color: rgb(90\, 167\, 255)\; cursor: pointer\; text-decoration-line: none\; list-style: none\; border-width: 0px\; margin: 0px\; border-style: none\; padding: 0px\; box-sizing: border-box\; outline: none\; -webkit-tap-highlight-color: transparent\; font-weight: 600\; touch-action: manipulation\; background-color: rgb(37\, 39\, 40)\; display: inline\; font-family: &quot\;Segoe UI Historic&quot\;\, &quot\;Segoe UI&quot\;\, Helvetica\, Arial\, sans-serif\; font-size: 15px\; white-space-collapse: preserve\;" tabindex="0" target="_blank">https://fdtc.edu/program-interest-meeting/</a>
LOCATION:Hartsville FDTC Campus 2225 Swift Creek Road Hartsville SC 29550
UID:e.2045.3371
SEQUENCE:3
DTSTAMP:20260425T031801Z
URL:https://www.hartsvillechamber.org/events/details/emt-program-launch-meet-greet-at-hartsville-fdtc-3371
END:VEVENT

END:VCALENDAR
