BEGIN:VCALENDAR
VERSION:2.0
PRODID:-//ChamberMaster//Event Calendar 2.0//EN
METHOD:PUBLISH
X-PUBLISHED-TTL:P3D
REFRESH-INTERVAL:P3D
CALSCALE:GREGORIAN
BEGIN:VEVENT
DTSTART;VALUE=DATE:20240222
DTEND;VALUE=DATE:20240224
TRANSP:TRANSPARENT
X-MICROSOFT-CDO-ALLDAYEVENT:TRUE
SUMMARY:Faculty and Guest Artist Dance Concert
DESCRIPTION:Faculty and Guest Artist Dance Concert   February 22-23\, 7:30 p.m. and February 24\, 2:30 p.m. at the Watson Theater\; $10 students/seniors\, $20 General Admission. This concert will feature choreography by faculty Angela Gallo\, Adjetey Klufio\, Natalia Schradle\, and Meredith Sims along with choreography by Guest Company\, Giordano Dance Chicago performed by the Coker Dance Program.
X-ALT-DESC;FMTTYPE=text/html:<p><strong>Faculty and Guest Artist Dance Concert &ndash\; February 22-23\, 7:30 p.m. and February 24\, 2:30 p.m. at the Watson Theater\;&nbsp\;$10 students/seniors\, $20 General Admission.&nbsp\;</strong>This concert will feature choreography by faculty Angela Gallo\, Adjetey Klufio\, Natalia Schradle\, and Meredith Sims along with choreography by Guest Company\, Giordano Dance Chicago performed by the Coker Dance Program.</p>\n
LOCATION:
UID:e.2045.2508
SEQUENCE:3
DTSTAMP:20260425T204044Z
URL:https://www.hartsvillechamber.org/events/details/faculty-and-guest-artist-dance-concert-02-22-2024-2508
END:VEVENT

END:VCALENDAR
