BEGIN:VCALENDAR
VERSION:2.0
PRODID:-//ChamberMaster//Event Calendar 2.0//EN
METHOD:PUBLISH
X-PUBLISHED-TTL:P3D
REFRESH-INTERVAL:P3D
CALSCALE:GREGORIAN
BEGIN:VEVENT
DTSTART:20240320T233000Z
DTEND:20240321T010000Z
X-MICROSOFT-CDO-ALLDAYEVENT:FALSE
SUMMARY:Faculty Chamber Music Concert
DESCRIPTION:Faculty Chamber Music Concert at the Hannah Lide Coker Recital Hall\, March 20: 7:30 p.m.\n\nMembers of the Coker Music Faculty and special guests present an evening of chamber music for a variety of instrumental combinations including Woodwind Quintet. The recital is free and open to the public.
X-ALT-DESC;FMTTYPE=text/html:<p><strong>Faculty Chamber Music Concert at the Hannah Lide Coker Recital Hall\, March 20:&nbsp\;7:30 p.m.</strong><br />\nMembers of the Coker Music Faculty and special guests present an evening of chamber music for a variety of instrumental combinations including Woodwind Quintet. The recital is free and open to the public.&nbsp\;</p>\n
LOCATION:Hannah Lide Coker Recital Hall
UID:e.2045.2535
SEQUENCE:3
DTSTAMP:20260425T172707Z
URL:https://www.hartsvillechamber.org/events/details/faculty-chamber-music-concert-2535
END:VEVENT

END:VCALENDAR
