BEGIN:VCALENDAR
VERSION:2.0
PRODID:-//ChamberMaster//Event Calendar 2.0//EN
METHOD:PUBLISH
X-PUBLISHED-TTL:P3D
REFRESH-INTERVAL:P3D
CALSCALE:GREGORIAN
BEGIN:VEVENT
DTSTART:20241112T220000Z
DTEND:20241112T230000Z
X-MICROSOFT-CDO-ALLDAYEVENT:FALSE
SUMMARY:Family Paper Mache Masks with Ember Estridge
DESCRIPTION:Fun for the whole family! In this course we will be making paper mache masks. Paper mache needs to dry between layers. The first week\, you will select your base and start building up the layers of paper mache\, and in the second week you will finish any extra layering needed. The last week\, we will remove them from the forms and paint them using acrylic paint.\n\nWHEN:\n\nNovember 12\, 19\, 26\n\nfrom 5:00 - 6:00pm\n\nINVESTMENT:\n\n$50/1 person\n\n$90/2 people\n\n$120/3 people\n\n$140/4 people\n\nABOUT THE TEACHER:\n\nI make illustrative art that is explorative and eclectic in nature. Using vivid colors and whimsical themes\, I seek to use art as a tool for coping and overcoming the discordant world we live in. Creating both sequential mass consumption pieces as well as stand-alone gallery pieces\, I desire my work to captivate a wide audience.\n\nAs an art educator in public Title 1 schools\, much of my work is inspired and created around the classroom. I tailor projects and lessons to engage and motivate students\, impacting my own art making in the process. The resourcefulness and inventiveness of creating art projects accessible to a wide range of students and ages allows me to see multiple possibilities for each art material.\n\nVisit Ember's Website: https://www.embersartwork.com/
X-ALT-DESC;FMTTYPE=text/html:<p>Fun for the whole family! In this course we will be making paper mache masks. Paper mache needs to dry between layers. The first week\, you will select your base and start building up the layers of paper mache\, and in the second week you will finish any extra layering needed. The last week\, we will remove them from the forms and paint them using acrylic paint.</p>\n\n<p><strong>WHEN:</strong></p>\n\n<p>November 12\, 19\, 26</p>\n\n<p>from 5:00 - 6:00pm</p>\n\n<p><strong>INVESTMENT:</strong></p>\n\n<p>$50/1 person</p>\n\n<p>$90/2 people</p>\n\n<p>$120/3 people</p>\n\n<p>$140/4 people</p>\n\n<p><strong>ABOUT THE TEACHER:</strong></p>\n\n<p>I make illustrative art that is explorative and eclectic in nature. Using vivid colors and whimsical themes\, I seek to use art as a tool for coping and overcoming the discordant world we live in. Creating both sequential mass consumption pieces as well as stand-alone gallery pieces\, I desire my work to captivate a wide audience.</p>\n\n<p>As an art educator in public Title 1 schools\, much of my work is inspired and created around the classroom. I tailor projects and lessons to engage and motivate students\, impacting my own art making in the process. The resourcefulness and inventiveness of creating art projects accessible to a wide range of students and ages allows me to see multiple possibilities for each art material.</p>\n\n<p>Visit Ember&rsquo\;s Website: https://www.embersartwork.com/</p>\n
LOCATION:Black Creek Arts
UID:e.2045.3056
SEQUENCE:3
DTSTAMP:20260425T030913Z
URL:https://www.hartsvillechamber.org/events/details/family-paper-mache-masks-with-ember-estridge-3056
END:VEVENT

END:VCALENDAR
