BEGIN:VCALENDAR
VERSION:2.0
PRODID:-//ChamberMaster//Event Calendar 2.0//EN
METHOD:PUBLISH
X-PUBLISHED-TTL:P3D
REFRESH-INTERVAL:P3D
CALSCALE:GREGORIAN
BEGIN:VEVENT
DTSTART:20250208T150000Z
DTEND:20250208T160000Z
X-MICROSOFT-CDO-ALLDAYEVENT:FALSE
SUMMARY:Family Yoga with Casey Gainey
DESCRIPTION:Join us for a fun and engaging Family Yoga Class designed to bring families together through movement\, mindfulness\, and connection! Perfect for all ages and skill levels\, this one-hour session blends gentle yoga poses\, playful activities\, and relaxation techniques that everyone can enjoy. For just $25\, a family of three can participate\, with additional family members welcome at $5 each. Strengthen your bond\, improve flexibility\, and create lasting memories in a welcoming and supportive environment. No prior yoga experience is necessary just bring your mats and smiles!\n\n*Limited Space*\n\nDATES & TIMES:\n\nSaturdays from 10:00 - 11:00am\n\nFebruary 8th & April 12th\n\nINVESTMENT:\n\n$25 for family of three\, $5 per additional person\n\nABOUT THE TEACHER:\n\nCasey Gainey is an art-loving yogi from a small town in South Carolina. Although always drawn to creativity\, she discovered yoga in 2016. Over time\, Casey found that blending her morning art practice with yoga and meditation helped her move beyond overthinking and tap into a higher creative flow. After becoming a 200hr Registered Yoga Teacher in 2020 with Our Sacred Space Yoga\, Casey has trained in therapeutic arts\, trauma-informed coaching\, and children's yoga. Now\, Casey combines creativity and yoga in her classes to guide others in reconnecting with their true selves\, fostering a sense of inner calm and grounding.
X-ALT-DESC;FMTTYPE=text/html:<p>Join us for a fun and engaging Family Yoga Class designed to bring families together through movement\, mindfulness\, and connection! Perfect for all ages and skill levels\, this one-hour session blends gentle yoga poses\, playful activities\, and relaxation techniques that everyone can enjoy. For just $25\, a family of three can participate\, with additional family members welcome at $5 each. Strengthen your bond\, improve flexibility\, and create lasting memories in a welcoming and supportive environment. No prior yoga experience is necessary&mdash\;just bring your mats and smiles!</p>\n\n<p><em>*Limited Space</em>*</p>\n\n<p><strong>DATES &amp\; TIMES:</strong></p>\n\n<p>Saturdays from 10:00 - 11:00am</p>\n\n<p>February 8th &amp\; April 12th</p>\n\n<p><strong>INVESTMENT:</strong></p>\n\n<p>$25 for family of three\, $5 per additional person</p>\n\n<p><strong>ABOUT THE TEACHER:</strong></p>\n\n<p>Casey Gainey is an art-loving yogi from a small town in South Carolina. Although always drawn to creativity\, she discovered yoga in 2016. Over time\, Casey found that blending her morning art practice with yoga and meditation helped her move beyond overthinking and tap into a higher creative flow. After becoming a 200hr Registered Yoga Teacher in 2020 with Our Sacred Space Yoga\, Casey has trained in therapeutic arts\, trauma-informed coaching\, and children&rsquo\;s yoga. Now\, Casey combines creativity and yoga in her classes to guide others in reconnecting with their true selves\, fostering a sense of inner calm and grounding.&nbsp\;</p>\n
LOCATION:Our Sacred Space Yoga 2nd floor of Black Creek Arts 116 W College Ave
UID:e.2045.3210
SEQUENCE:3
DTSTAMP:20260424T221101Z
URL:https://www.hartsvillechamber.org/events/details/family-yoga-with-casey-gainey-3210
END:VEVENT

END:VCALENDAR
