BEGIN:VCALENDAR
VERSION:2.0
PRODID:-//ChamberMaster//Event Calendar 2.0//EN
METHOD:PUBLISH
X-PUBLISHED-TTL:P3D
REFRESH-INTERVAL:P3D
CALSCALE:GREGORIAN
BEGIN:VEVENT
DTSTART:20250223T003000Z
DTEND:20250223T020000Z
X-MICROSOFT-CDO-ALLDAYEVENT:FALSE
SUMMARY:February Choral Concert
DESCRIPTION:February 22: February Choral Concert\, St. Bartholomew's Church at 7:30 p.m.\n\nJoin the Coker University Choral Program for an intimate concert of chamber works at Drengaelen House. Headlined by the Coker Singers\, this performance will feature classic choral works alongside the music of living composers.
X-ALT-DESC;FMTTYPE=text/html:<p><strong>February 22: February Choral Concert\, St. Bartholomew&rsquo\;s Church at 7:30 p.m.</strong><br />\nJoin the Coker University Choral Program for an intimate concert of chamber works at Drengaelen House. Headlined by the Coker Singers\, this performance will feature classic choral works alongside the music of living composers.</p>\n
LOCATION:St. Bartholomew's Church
UID:e.2045.3040
SEQUENCE:3
DTSTAMP:20260424T220916Z
URL:https://www.hartsvillechamber.org/events/details/february-choral-concert-3040
END:VEVENT

END:VCALENDAR
