BEGIN:VCALENDAR
VERSION:2.0
PRODID:-//ChamberMaster//Event Calendar 2.0//EN
METHOD:PUBLISH
X-PUBLISHED-TTL:P3D
REFRESH-INTERVAL:P3D
CALSCALE:GREGORIAN
BEGIN:VEVENT
DTSTART:20240531T223000Z
DTEND:20240601T013000Z
X-MICROSOFT-CDO-ALLDAYEVENT:FALSE
SUMMARY:FGH BAND- LIVE at Dizzy's Bar & Grill in Cheraw\, SC!! FRIDAY- May 31st 6:30-9:30PM
DESCRIPTION:FGH BAND- LIVE at Dizzy's Bar & Grill in Cheraw\, SC!! \n\nFRIDAY- May 31st 6:30-9:30PM
X-ALT-DESC;FMTTYPE=text/html:<div>FGH BAND- LIVE at Dizzy&#39\;s Bar &amp\; Grill in Cheraw\, SC!!&nbsp\;</div>\n\n<div>FRIDAY- May 31st 6:30-9:30PM&nbsp\;</div>\n
LOCATION:FGH BAND- LIVE at Dizzy's Bar & Grill in Cheraw\, SC!! FRIDAY- May 31st 6:30-9:30PM
UID:e.2045.2750
SEQUENCE:3
DTSTAMP:20260425T142628Z
URL:https://www.hartsvillechamber.org/events/details/fgh-band-live-at-dizzy-s-bar-grill-in-cheraw-sc-friday-may-31st-6-30-9-30pm-2750
END:VEVENT

END:VCALENDAR
