BEGIN:VCALENDAR
VERSION:2.0
PRODID:-//ChamberMaster//Event Calendar 2.0//EN
METHOD:PUBLISH
X-PUBLISHED-TTL:P3D
REFRESH-INTERVAL:P3D
CALSCALE:GREGORIAN
BEGIN:VEVENT
DTSTART:20240620T210000Z
DTEND:20240620T233000Z
X-MICROSOFT-CDO-ALLDAYEVENT:FALSE
SUMMARY:First Baptist Church- Music For The Maker
DESCRIPTION:First Baptist Church- Music For The Maker\n\nThis year\, FBC Hartsville will be spending 4 days with kids ages 5k-5th grade learning all things music! From bells to orff to choir\, children will learn how to make music for the Lord and showcase their talents on the final day.\n\nDrop off will be at 5pm and pickup will be at 7:30. Dinner will be provided. If there are any allergies or restrictions\, please be sure to note them on the registration.\n\n\n\nRegister here- https://onrealm.org/FirstBaptistChu74482/PublicRegistrations/Event?linkString=NTIxZTNhYjAtNDFjNi00YjlkLWJiZjAtYjE0YTAxMzAzZjQx&fbclid=IwZXh0bgNhZW0CMTAAAR0jJ174iuRGs51l6QD8O-81SMQ536YMK10P_9d2M55Q7XLlzsYSACVDZPI_aem_AeaStHy9iFkqTFncfv90KH_tASohtpoEXSI6lO5XrBj8lHWlfuBPrXdZMu1tFHoeiRlzrIpxewFvkQ0zH7QFDGzD
X-ALT-DESC;FMTTYPE=text/html:<p>First Baptist Church- Music For The Maker<br />\nThis year\, FBC Hartsville will be spending 4 days with kids ages 5k-5th grade learning all things music! From bells to orff to choir\, children will learn how to make music for the Lord and showcase their talents on the final day.</p>\n\n<p>Drop off will be at 5pm and pickup will be at 7:30. Dinner will be provided. If there are any allergies or restrictions\, please be sure to note them on the registration.<br />\n<br />\nRegister here-&nbsp\;<a href="https://onrealm.org/FirstBaptistChu74482/PublicRegistrations/Event?linkString=NTIxZTNhYjAtNDFjNi00YjlkLWJiZjAtYjE0YTAxMzAzZjQx&amp\;fbclid=IwZXh0bgNhZW0CMTAAAR0jJ174iuRGs51l6QD8O-81SMQ536YMK10P_9d2M55Q7XLlzsYSACVDZPI_aem_AeaStHy9iFkqTFncfv90KH_tASohtpoEXSI6lO5XrBj8lHWlfuBPrXdZMu1tFHoeiRlzrIpxewFvkQ0zH7QFDGzD">https://onrealm.org/FirstBaptistChu74482/PublicRegistrations/Event?linkString=NTIxZTNhYjAtNDFjNi00YjlkLWJiZjAtYjE0YTAxMzAzZjQx&amp\;fbclid=IwZXh0bgNhZW0CMTAAAR0jJ174iuRGs51l6QD8O-81SMQ536YMK10P_9d2M55Q7XLlzsYSACVDZPI_aem_AeaStHy9iFkqTFncfv90KH_tASohtpoEXSI6lO5XrBj8lHWlfuBPrXdZMu1tFHoeiRlzrIpxewFvkQ0zH7QFDGzD</a></p>\n
LOCATION:104 E Home Ave Hartsville\, SC
UID:e.2045.2763
SEQUENCE:3
DTSTAMP:20260420T190406Z
URL:https://www.hartsvillechamber.org/events/details/first-baptist-church-music-for-the-maker-06-20-2024-2763
END:VEVENT

END:VCALENDAR
