BEGIN:VCALENDAR
VERSION:2.0
PRODID:-//ChamberMaster//Event Calendar 2.0//EN
METHOD:PUBLISH
X-PUBLISHED-TTL:P3D
REFRESH-INTERVAL:P3D
CALSCALE:GREGORIAN
BEGIN:VEVENT
DTSTART:20260209T223000Z
DTEND:20260210T000000Z
X-MICROSOFT-CDO-ALLDAYEVENT:FALSE
SUMMARY:First Time Homebuyers Workshop with SPC Credit Union
DESCRIPTION:Register now for sPC's first time homebuyers workshop\n\nGet the Tools and Know-How You Need to Buy Your First Home with Expert Advice from Your Local Lending Team at SPC Credit Union. Over the course of 8 monthly sessions beginning in February 2026\, you'll learn key concepts for homeownership\, including:\n\n\n	\n	Budgeting\n	\n	\n	Credit Scores\n	\n	\n	Various Loan Types\n	\n	\n	Sales Price vs. Loan Amount\n	\n	\n	Preapproval vs. Prequalification\n	\n	\n	Mortgage Insurance & Payments\n	\n	\n	& More!\n\n	Space is limited! Register now for just $25. Your registration fee supports the SPC Cares Foundation's Down Payment Assistance program. SPC Membership is not required for class registration. Class size is limited to 20 people. Classes will be held on the second Monday of the month from February-September 2026 at the Butler Heritage Foundation's Auditorium (1103 S. 6th St.\, Hartsville\, S.C.) beginning at 5:30 p.m.
X-ALT-DESC;FMTTYPE=text/html:<h2 style="text-align:center">Register now for sPC&rsquo\;s first time homebuyers workshop</h2>\n\n<p style="text-align:center">Get the Tools and Know-How You Need to Buy Your First Home with Expert Advice from Your Local Lending Team at SPC Credit Union. Over the course of 8 monthly sessions beginning in February 2026\, you&rsquo\;ll learn key concepts for homeownership\, including:</p>\n\n<ul>\n	<li>\n	<p><em>Budgeting</em></p>\n	</li>\n	<li>\n	<p><em>Credit Scores</em></p>\n	</li>\n	<li>\n	<p><em>Various Loan Types</em></p>\n	</li>\n	<li>\n	<p><em>Sales Price vs. Loan Amount</em></p>\n	</li>\n	<li>\n	<p><em>Preapproval vs. Prequalification</em></p>\n	</li>\n	<li>\n	<p><em>Mortgage Insurance &amp\; Payments</em></p>\n	</li>\n	<li>\n	<p><em>&amp\; More!</em></p>\n\n	<p style="text-align:center">Space is limited! Register now for just $25. Your registration fee supports the SPC Cares Foundation&rsquo\;s Down Payment Assistance program. SPC Membership is not required for class registration. Class size is limited to 20 people. Classes will be held on the second Monday of the month from February-September 2026 at the Butler Heritage Foundation&rsquo\;s Auditorium (1103 S. 6th St.\, Hartsville\, S.C.) beginning at 5:30 p.m.</p>\n	</li>\n</ul>\n
LOCATION:Butler Heritage Foundation\, 1103 S. 6th St.
UID:e.2045.3494
SEQUENCE:3
DTSTAMP:20260425T172723Z
URL:https://www.hartsvillechamber.org/events/details/first-time-homebuyers-workshop-with-spc-credit-union-3494
END:VEVENT

END:VCALENDAR
