BEGIN:VCALENDAR
VERSION:2.0
PRODID:-//ChamberMaster//Event Calendar 2.0//EN
METHOD:PUBLISH
X-PUBLISHED-TTL:P3D
REFRESH-INTERVAL:P3D
CALSCALE:GREGORIAN
BEGIN:VEVENT
DTSTART:20260228T140000Z
DTEND:20260228T170000Z
X-MICROSOFT-CDO-ALLDAYEVENT:FALSE
SUMMARY:Food as Medicine for Inflammation Workshop
DESCRIPTION:Learn how to keep chronic inflammation at bay using food as medicine! You will sample various therapeutic recipes and foods throughout the morning\, and you will go home with a handy recipe guide and an anti-inflammatory drink mix.
X-ALT-DESC;FMTTYPE=text/html:Learn how to keep chronic inflammation at bay using food as medicine! You will sample various therapeutic recipes and foods throughout the morning\, and you will go home with a handy recipe guide and an anti-inflammatory drink mix.&nbsp\;
LOCATION:
UID:e.2045.3511
SEQUENCE:3
DTSTAMP:20260425T172610Z
URL:https://www.hartsvillechamber.org/events/details/food-as-medicine-for-inflammation-workshop-3511
END:VEVENT

END:VCALENDAR
