BEGIN:VCALENDAR
VERSION:2.0
PRODID:-//ChamberMaster//Event Calendar 2.0//EN
METHOD:PUBLISH
X-PUBLISHED-TTL:P3D
REFRESH-INTERVAL:P3D
CALSCALE:GREGORIAN
BEGIN:VEVENT
DTSTART:20240427T133000Z
DTEND:20240427T150000Z
X-MICROSOFT-CDO-ALLDAYEVENT:FALSE
SUMMARY:FREE INFORMATIONAL SESSION FOR ALCHEMICAL YOGA TEACHER TRAINING IN 2025
DESCRIPTION:Yoga teacher training is returning to Our Sacred Space Yoga in 2025! If you are interested in becoming a yoga teacher and/or deepening your yoga practice\, join Jamie and Dustin Martell for this *FREE* informational meeting and community practice! Come dressed to practice yoga!\n\n*If you have already completed your teacher training with us\, you are welcomed to join again at a discounted price AND receive continuing education hours.\n\n**To qualify for the program\, you must have at least one year of a regular and consistent yoga practice.\n\nWHEN:\n\nSaturday\, April 27th at 9:30am
X-ALT-DESC;FMTTYPE=text/html:<p>Yoga teacher training is returning to Our Sacred Space Yoga in 2025! If you are interested in becoming a yoga teacher and/or deepening your yoga practice\, join Jamie and Dustin Martell for this *FREE* informational meeting and community practice! Come dressed to practice yoga!</p>\n\n<p>*If you have already completed your teacher training with us\, you are welcomed to join again at a discounted price AND receive continuing education hours.</p>\n\n<p>**To qualify for the program\, you must have at least one year of a regular and consistent yoga practice.</p>\n\n<p>WHEN:</p>\n\n<p>Saturday\, April 27th at 9:30am</p>\n
LOCATION:Black Creek Arts
UID:e.2045.2721
SEQUENCE:3
DTSTAMP:20260425T160227Z
URL:https://www.hartsvillechamber.org/events/details/free-informational-session-for-alchemical-yoga-teacher-training-in-2025-2721
END:VEVENT

END:VCALENDAR
