BEGIN:VCALENDAR
VERSION:2.0
PRODID:-//ChamberMaster//Event Calendar 2.0//EN
METHOD:PUBLISH
X-PUBLISHED-TTL:P3D
REFRESH-INTERVAL:P3D
CALSCALE:GREGORIAN
BEGIN:VEVENT
DTSTART;VALUE=DATE:20250406
DTEND;VALUE=DATE:20250407
TRANSP:TRANSPARENT
X-MICROSOFT-CDO-ALLDAYEVENT:TRUE
SUMMARY:Goodyear 400
DESCRIPTION:Join us as we celebrate Darlington Raceway's 75th Anniversary during the Official Throwback Weekend of NASCAR with the return of the NASCAR Cup Series to the Track Too Tough to Tame!
X-ALT-DESC;FMTTYPE=text/html:<span style="color:rgb(0\, 0\, 0)\; font-family:figtree\,sans-serif\; font-size:16px">Join us as we celebrate&nbsp\;</span><span style="color:rgb(0\, 0\, 0)\; font-family:figtree\,sans-serif\; font-size:16px">Darlington Raceway&rsquo\;s 75th Anniversary during the Official Throwback Weekend of NASCAR</span><span style="color:rgb(0\, 0\, 0)\; font-family:figtree\,sans-serif\; font-size:16px">&nbsp\;with the return of the&nbsp\;</span><span style="color:rgb(0\, 0\, 0)\; font-family:figtree\,sans-serif\; font-size:16px">NASCAR Cup Series</span><span style="color:rgb(0\, 0\, 0)\; font-family:figtree\,sans-serif\; font-size:16px">&nbsp\;to the&nbsp\;</span><span style="color:rgb(0\, 0\, 0)\; font-family:figtree\,sans-serif\; font-size:16px">Track Too Tough to Tame</span><span style="color:rgb(0\, 0\, 0)\; font-family:figtree\,sans-serif\; font-size:16px">!</span>
LOCATION:Darlington Raceway
UID:e.2045.3323
SEQUENCE:3
DTSTAMP:20260424T184123Z
URL:https://www.hartsvillechamber.org/events/details/goodyear-400-04-06-2025-3323
END:VEVENT

END:VCALENDAR
