BEGIN:VCALENDAR
VERSION:2.0
PRODID:-//ChamberMaster//Event Calendar 2.0//EN
METHOD:PUBLISH
X-PUBLISHED-TTL:P3D
REFRESH-INTERVAL:P3D
CALSCALE:GREGORIAN
BEGIN:VEVENT
DTSTART:20210912T210000Z
DTEND:20210913T000000Z
X-MICROSOFT-CDO-ALLDAYEVENT:FALSE
SUMMARY:Gospel In the Park Concert Series 2021
DESCRIPTION:"Live Gospel Entertainment"\n\nGospel In The Park\n\n"Bringing Unity In The Community"\n\nFree Outdoor Gospel Event!!\n\nFeaturing National Gospel Recording Artist\n\nYvetter Simone\n\nHit Singe (Won't He Do It"\n\nFor more information contact Barbara Carraway 843-409-5241
X-ALT-DESC;FMTTYPE=text/html:&quot\;Live Gospel Entertainment&quot\;<br />\nGospel In The Park<br />\n&quot\;Bringing Unity In The Community&quot\;<br />\nFree Outdoor Gospel Event!!<br />\nFeaturing National Gospel Recording Artist<br />\nYvetter Simone<br />\nHit Singe (Won&#39\;t He Do It&quot\;<br />\nFor more information contact Barbara Carraway 843-409-5241
LOCATION:Pride Park 630 S 6th Street Hartsville\, SC
UID:e.2045.1097
SEQUENCE:3
DTSTAMP:20260422T202407Z
URL:https://www.hartsvillechamber.org/events/details/gospel-in-the-park-concert-series-2021-1097
END:VEVENT

END:VCALENDAR
