BEGIN:VCALENDAR
VERSION:2.0
PRODID:-//ChamberMaster//Event Calendar 2.0//EN
METHOD:PUBLISH
X-PUBLISHED-TTL:P3D
REFRESH-INTERVAL:P3D
CALSCALE:GREGORIAN
BEGIN:VEVENT
DTSTART:20240609T210000Z
DTEND:20240610T000000Z
X-MICROSOFT-CDO-ALLDAYEVENT:FALSE
SUMMARY:Gospel in the Park Series
DESCRIPTION:Gospel in the Park Series Schedule 2024 . 18th year and climbing \,\n\nGospel in the Park is a 6 month series\, we begin in May and ends in Oct..It's the first Sunday in May & Oct and than it's the second Sunday of each month
X-ALT-DESC;FMTTYPE=text/html:<span style="white-space: pre-wrap\; caret-color: rgb(228\, 230\, 235)\; color: rgb(228\, 230\, 235)\; font-family: system-ui\, -apple-system\, BlinkMacSystemFont\, &quot\;.SFNSText-Regular&quot\;\, sans-serif\; font-size: 15px\; background-color: rgb(36\, 37\, 38)\;">Gospel in the Park Series Schedule 2024&hellip\;. 18th year and climbing&hellip\;\,</span><br />\n<span style="caret-color: rgb(228\, 230\, 235)\; color: rgb(228\, 230\, 235)\; font-family: system-ui\, -apple-system\, BlinkMacSystemFont\, &quot\;.SFNSText-Regular&quot\;\, sans-serif\; font-size: 15px\; text-align: center\; background-color: rgb(36\, 37\, 38)\;">Gospel in the Park is a 6 month series\, we begin in May and ends in Oct..It&#39\;s the first Sunday in May &amp\; Oct and than it&#39\;s the second Sunday of each month</span>
LOCATION:Pride Park 630 S 6th St Hartsville\, SC 29550
UID:e.2045.2755
SEQUENCE:3
DTSTAMP:20260420T190231Z
URL:https://www.hartsvillechamber.org/events/details/gospel-in-the-park-series-2755
END:VEVENT

END:VCALENDAR
