BEGIN:VCALENDAR
VERSION:2.0
PRODID:-//ChamberMaster//Event Calendar 2.0//EN
METHOD:PUBLISH
X-PUBLISHED-TTL:P3D
REFRESH-INTERVAL:P3D
CALSCALE:GREGORIAN
BEGIN:VEVENT
DTSTART:20240710T140000Z
DTEND:20240710T143000Z
X-MICROSOFT-CDO-ALLDAYEVENT:FALSE
SUMMARY:Groundbreaking/Ribbon Cutting- Chandler Cottages
DESCRIPTION:Come celebrate Chandler Cottages at Byerly Park!  1009 Fourteenth Street (come to the first unit on the left 976 Chancellor Drive)
X-ALT-DESC;FMTTYPE=text/html:<p style="margin: 0px\; font-style: normal\; font-variant-caps: normal\; font-stretch: normal\; font-size: 14px\; line-height: normal\; font-family: &quot\;Helvetica Neue&quot\;\; font-size-adjust: none\; font-kerning: auto\; font-variant-alternates: normal\; font-variant-ligatures: normal\; font-variant-numeric: normal\; font-variant-east-asian: normal\; font-variant-position: normal\; font-feature-settings: normal\; font-optical-sizing: auto\; font-variation-settings: normal\; color: rgb(59\, 59\, 59)\;">Come celebrate Chandler Cottages at Byerly Park!&nbsp\; 1009 Fourteenth Street (come to the first unit on the left 976 Chancellor Drive)</p>\n
LOCATION:1009 Fourteenth Street (come to the first unit on the left 976 Chancellor Drive)
UID:e.2045.2730
SEQUENCE:3
DTSTAMP:20260420T173337Z
URL:https://www.hartsvillechamber.org/events/details/groundbreaking-ribbon-cutting-chandler-cottages-2730
END:VEVENT

END:VCALENDAR
