BEGIN:VCALENDAR
VERSION:2.0
PRODID:-//ChamberMaster//Event Calendar 2.0//EN
METHOD:PUBLISH
X-PUBLISHED-TTL:P3D
REFRESH-INTERVAL:P3D
CALSCALE:GREGORIAN
BEGIN:VEVENT
DTSTART:20250717T130000Z
DTEND:20250717T160000Z
X-MICROSOFT-CDO-ALLDAYEVENT:FALSE
SUMMARY:GSSM Athletics Volleyball Camp
DESCRIPTION:This summer\, give your rising 3rd 9th grader the chance to learn from one of the best! Join us July 14 18 from 9 a.m. 12 p.m. for GSSM's Volleyball Camp\, led by Region 2A Coach of the Year Hugh O'Connor\, who coached our team to a regional championship title this year. With a focus on teamwork\, skill-building\, and a genuine love for the game\, Coach O'Connor creates an encouraging environment where young athletes can grow on and off the court. Whether your child is new to volleyball or looking to level up\, this camp is a fun and affordable opportunity at just $50 for the week. Spots are limited register today!
X-ALT-DESC;FMTTYPE=text/html:<p>This summer\, give your rising 3rd&ndash\;9th grader the chance to learn from one of the best! Join us July 14&ndash\;18 from 9 a.m.&ndash\;12 p.m. for GSSM&rsquo\;s Volleyball Camp\, led by <strong>Region 2A Coach of the Year Hugh O&rsquo\;Connor</strong>\, who coached our team to a <strong>regional championship title this year</strong>. With a focus on teamwork\, skill-building\, and a genuine love for the game\, Coach O&rsquo\;Connor creates an encouraging environment where young athletes can grow on and off the court. Whether your child is new to volleyball or looking to level up\, this camp is a fun and affordable opportunity at just $50 for the week. Spots are limited&mdash\;register today!</p>\n
LOCATION:GSSM Campus 401 Railroad Ave. Hartsville\, SC 29550
UID:e.2045.3330
SEQUENCE:3
DTSTAMP:20260425T033237Z
URL:https://www.hartsvillechamber.org/events/details/gssm-athletics-volleyball-camp-07-17-2025-3330
END:VEVENT

END:VCALENDAR
