BEGIN:VCALENDAR
VERSION:2.0
PRODID:-//ChamberMaster//Event Calendar 2.0//EN
METHOD:PUBLISH
X-PUBLISHED-TTL:P3D
REFRESH-INTERVAL:P3D
CALSCALE:GREGORIAN
BEGIN:VEVENT
DTSTART:20241207T223000Z
DTEND:20241207T233000Z
X-MICROSOFT-CDO-ALLDAYEVENT:FALSE
SUMMARY:Hartsville Christmas Parade
DESCRIPTION:Hartsville Christmas Parade
X-ALT-DESC;FMTTYPE=text/html:Hartsville Christmas Parade
LOCATION:City of Hartsville
UID:e.2045.3184
SEQUENCE:3
DTSTAMP:20260425T012321Z
URL:https://www.hartsvillechamber.org/events/details/hartsville-christmas-parade-3184
END:VEVENT

END:VCALENDAR
