BEGIN:VCALENDAR
VERSION:2.0
PRODID:-//ChamberMaster//Event Calendar 2.0//EN
METHOD:PUBLISH
X-PUBLISHED-TTL:P3D
REFRESH-INTERVAL:P3D
CALSCALE:GREGORIAN
BEGIN:VEVENT
DTSTART:20250322T130000Z
DTEND:20250322T170000Z
X-MICROSOFT-CDO-ALLDAYEVENT:FALSE
SUMMARY:Hartsville Interfaith Ministries - 1st Annual Craft Fair
DESCRIPTION:Saturday March 22nd from 9 am to 1 pm\n\nFirst Presbyterian Church Fellowship Hall  at 213 W. Home Ave in Hartsville\n\nHIM is having a Craft Fair to raise money for the Food Bank.  We request a donation of canned goods or $$ to purchase food to attend.  The Craft Fair will have over 25 vendors selling a wide variety of products.\n\nIn 2024\, your local HIM Food Bank provided food to 668 families which was 30\, 545 pounds of food at a value of $48\,872.05!! \n\nHIM depends on our local churches\, community groups and YOU to continue to meet the need for the food bank in the Hartsville area. \n\nPlease plan to attend and share this news with your friends and neighbors.  Bring your canned goods to help the HIM Food Bank continue to feed our neighbors! \n\n If you have questions\, you can contact HIMcraftfair@gmail.com
X-ALT-DESC;FMTTYPE=text/html:Saturday March 22<sup>nd</sup>&nbsp\;from 9 am to 1 pm<br />\nFirst Presbyterian Church Fellowship Hall &nbsp\;at 213 W. Home Ave in Hartsville<br />\nHIM is having a Craft Fair to raise money for the Food Bank.&nbsp\; We request a donation of canned goods or $$ to purchase food to attend.&nbsp\; The Craft Fair will have over 2<span style="font-family:arial\,sans-serif\;">5</span>&nbsp\;vendors selling a wide variety of products.<br />\nIn 2024\, your local HIM Food Bank provided food to 668 families which was 30\, 545 pounds of food at a value of $48\,872.05!!&nbsp\;<br />\nHIM depends on our local churches\, community groups and YOU to continue to meet the need for the food bank in the Hartsville area.&nbsp\;<br />\nPlease plan to attend and share this news with your friends and neighbors.&nbsp\; Bring your canned goods to help the HIM Food Bank continue to feed our neighbors!&nbsp\;<br />\n&nbsp\;If you have questions\, you can&nbsp\;<span style="font-family:arial\,sans-serif\;">contact&nbsp\;<a href="mailto:HIMcraftfair@gmail.com" target="_blank">HIMcraftfair@gmail.com</a></span>
LOCATION:213 W. Home Ave. Hartsville SC 29550
UID:e.2045.3281
SEQUENCE:3
DTSTAMP:20260424T202547Z
URL:https://www.hartsvillechamber.org/events/details/hartsville-interfaith-ministries-1st-annual-craft-fair-3281
END:VEVENT

END:VCALENDAR
