BEGIN:VCALENDAR
VERSION:2.0
PRODID:-//ChamberMaster//Event Calendar 2.0//EN
METHOD:PUBLISH
X-PUBLISHED-TTL:P3D
REFRESH-INTERVAL:P3D
CALSCALE:GREGORIAN
BEGIN:VEVENT
DTSTART:20251231T225000Z
DTEND:20251231T231500Z
X-MICROSOFT-CDO-ALLDAYEVENT:FALSE
SUMMARY:Hartsville New Year’s Eve Heart Drop
DESCRIPTION:Happy New Year Hartsville! The City of Hartsville with Friends presents Hartsville's first 'Heart Drop'! In honor of our 29550 zip code\, a 29 second countdown will begin at 5:50 pm. Come with your love ones to celebrate the beginning of 2026 with a custom built heart drop!
X-ALT-DESC;FMTTYPE=text/html:Happy New Year Hartsville! The City of Hartsville with Friends presents Hartsville&rsquo\;s first &lsquo\;Heart Drop&rsquo\;! In honor of our 29550 zip code\, a 29 second countdown will begin at 5:50 pm. Come with your love ones to celebrate the beginning of 2026 with a custom built heart drop!
LOCATION:Alleyway of The Mantissa Hotel next to Sam Kendall's
UID:e.2045.3502
SEQUENCE:3
DTSTAMP:20260425T123219Z
URL:https://www.hartsvillechamber.org/events/details/hartsville-new-year-s-eve-heart-drop-3502
END:VEVENT

END:VCALENDAR
