BEGIN:VCALENDAR
VERSION:2.0
PRODID:-//ChamberMaster//Event Calendar 2.0//EN
METHOD:PUBLISH
X-PUBLISHED-TTL:P3D
REFRESH-INTERVAL:P3D
CALSCALE:GREGORIAN
BEGIN:VEVENT
DTSTART:20250602T040000Z
DTEND:20250725T160000Z
X-MICROSOFT-CDO-ALLDAYEVENT:FALSE
SUMMARY:Hartsville YMCA Summer Specialty Camps
DESCRIPTION:Sign your child up for one of our many camps at the Hartsville YMCA this summer!
X-ALT-DESC;FMTTYPE=text/html:Sign your child up for one of our many camps at the Hartsville YMCA this summer!&nbsp\;
LOCATION:
UID:e.2045.3339
SEQUENCE:3
DTSTAMP:20260425T013435Z
URL:https://www.hartsvillechamber.org/events/details/hartsville-ymca-summer-specialty-camps-3339
END:VEVENT

END:VCALENDAR
