BEGIN:VCALENDAR
VERSION:2.0
PRODID:-//ChamberMaster//Event Calendar 2.0//EN
METHOD:PUBLISH
X-PUBLISHED-TTL:P3D
REFRESH-INTERVAL:P3D
CALSCALE:GREGORIAN
BEGIN:VEVENT
DTSTART:20240427T210000Z
DTEND:20240427T230000Z
X-MICROSOFT-CDO-ALLDAYEVENT:FALSE
SUMMARY:Hartsville Young Professionals Spring Social
DESCRIPTION:Join HYP for a FREE event at Kalmia Gardens on Saturday\, April 27th. Enjoy food\, bevs\, games and great people!
X-ALT-DESC;FMTTYPE=text/html:Join HYP for a FREE event at Kalmia Gardens on Saturday\, April 27th. Enjoy food\, bevs\, games and great people!&nbsp\;
LOCATION:Kalmia Gardens
UID:e.2045.2713
SEQUENCE:3
DTSTAMP:20260425T155918Z
URL:https://www.hartsvillechamber.org/events/details/hartsville-young-professionals-spring-social-2713
END:VEVENT

END:VCALENDAR
