BEGIN:VCALENDAR
VERSION:2.0
PRODID:-//ChamberMaster//Event Calendar 2.0//EN
METHOD:PUBLISH
X-PUBLISHED-TTL:P3D
REFRESH-INTERVAL:P3D
CALSCALE:GREGORIAN
BEGIN:VEVENT
DTSTART:20260106T230000Z
DTEND:20260107T000000Z
X-MICROSOFT-CDO-ALLDAYEVENT:FALSE
SUMMARY:Healthy You Nutrition Course
DESCRIPTION:Be equipped with everything YOU need to make sound\, healthy decisions. Through this course you will gain the tools needed to achieve true health within.
X-ALT-DESC;FMTTYPE=text/html:Be equipped with everything YOU need to make sound\, healthy decisions. Through this course you will gain the tools needed to achieve true health within.
LOCATION:Advanced Wellness Center 541 W. Carolina Ave Hartsville SC
UID:e.2045.3445
SEQUENCE:3
DTSTAMP:20260425T121831Z
URL:https://www.hartsvillechamber.org/events/details/healthy-you-nutrition-course-3445
END:VEVENT

END:VCALENDAR
