BEGIN:VCALENDAR
VERSION:2.0
PRODID:-//ChamberMaster//Event Calendar 2.0//EN
METHOD:PUBLISH
X-PUBLISHED-TTL:P3D
REFRESH-INTERVAL:P3D
CALSCALE:GREGORIAN
BEGIN:VEVENT
DTSTART:20251122T150000Z
DTEND:20251122T210000Z
X-MICROSOFT-CDO-ALLDAYEVENT:FALSE
SUMMARY:Heart of the Holidays Carnival and Craft Show
DESCRIPTION:On Saturday\, November 22\, 2025\, bring the whole family to the Holiday Carnival and Craft Show for a full day of festive fun. Enjoy exciting carnival rides\, browse a variety of artisan craft vendors\, and discover plenty of treats and treasures throughout downtown. Make it a day to shop\, eat\, and explore everything Hartsville has to offer!
X-ALT-DESC;FMTTYPE=text/html:<span style="color: rgb(20\, 24\, 39)\; font-family: Montserrat\; font-size: 18px\; font-variant-ligatures: normal\; orphans: 2\; widows: 2\; text-decoration-thickness: initial\;">On Saturday\, November 22\, 2025\, bring the whole family to the Holiday Carnival and Craft Show for a full day of festive fun. Enjoy exciting carnival rides\, browse a variety of artisan craft vendors\, and discover plenty of treats and treasures throughout downtown. Make it a day to shop\, eat\, and explore everything Hartsville has to offer!</span>
LOCATION:Downtown Hartsville
UID:e.2045.3459
SEQUENCE:3
DTSTAMP:20260425T110511Z
URL:https://www.hartsvillechamber.org/events/details/heart-of-the-holidays-carnival-and-craft-show-3459
END:VEVENT

END:VCALENDAR
