BEGIN:VCALENDAR
VERSION:2.0
PRODID:-//ChamberMaster//Event Calendar 2.0//EN
METHOD:PUBLISH
X-PUBLISHED-TTL:P3D
REFRESH-INTERVAL:P3D
CALSCALE:GREGORIAN
BEGIN:VEVENT
DTSTART:20251206T223000Z
DTEND:20251207T000000Z
X-MICROSOFT-CDO-ALLDAYEVENT:FALSE
SUMMARY:Heart of the Holidays Christmas Parade
DESCRIPTION:Join us for the annual Hartsville Christmas Parade on Saturday\, December 6\, at 5:30 PM! This year's theme\, A Winter Wonderland\, will bring the magic of the season to life with dazzling floats\, sparkling lights\, and plenty of holiday cheer. Bring your family and friends downtown to enjoy one of Hartsville's favorite holiday traditions.
X-ALT-DESC;FMTTYPE=text/html:<p style="box-sizing: border-box\; margin-top: 0px\; margin-right: 0px\; margin-bottom: var(--tec-spacer-3)\; margin-left: 0px\; font-size: var(--tec-font-size-4)\; line-height: var(--tec-line-height-2)\; color: rgb(20\, 24\, 39)\; font-family: Montserrat\; font-variant-ligatures: normal\; orphans: 2\; widows: 2\; text-decoration-thickness: initial\;">Join us for the annual Hartsville Christmas Parade on Saturday\, December 6\, at 5:30 PM! This year&rsquo\;s theme\,&nbsp\;<em style="box-sizing: border-box\;">A Winter Wonderland</em>\, will bring the magic of the season to life with dazzling floats\, sparkling lights\, and plenty of holiday cheer. Bring your family and friends downtown to enjoy one of Hartsville&rsquo\;s favorite holiday traditions.</p>\n\n<p data-end="589" data-is-last-node="" data-is-only-node="" data-start="420" style="box-sizing: border-box\; margin-top: 0px\; margin-right: 0px\; margin-bottom: var(--tec-spacer-3)\; margin-left: 0px\; font-size: var(--tec-font-size-4)\; line-height: var(--tec-line-height-2)\; color: rgb(20\, 24\, 39)\; font-family: Montserrat\; font-variant-ligatures: normal\; orphans: 2\; widows: 2\; text-decoration-thickness: initial\;">&nbsp\;</p>\n
LOCATION:Downtown Hartsville
UID:e.2045.3460
SEQUENCE:3
DTSTAMP:20260425T122135Z
URL:https://www.hartsvillechamber.org/events/details/heart-of-the-holidays-christmas-parade-3460
END:VEVENT

END:VCALENDAR
