BEGIN:VCALENDAR
VERSION:2.0
PRODID:-//ChamberMaster//Event Calendar 2.0//EN
METHOD:PUBLISH
X-PUBLISHED-TTL:P3D
REFRESH-INTERVAL:P3D
CALSCALE:GREGORIAN
BEGIN:VEVENT
DTSTART:20251121T230000Z
DTEND:20251122T020000Z
X-MICROSOFT-CDO-ALLDAYEVENT:FALSE
SUMMARY:Heart of the Holidays Family Jingle Jam
DESCRIPTION:Get ready for a festive evening at our Family Jingle Jam! Join us downtown on Friday\, November 21\, from 6:00 to 9:00 pm for a fun-filled block party featuring live music from Analog Saints\, food and drink vendors\, and plenty of family activities. The Hartsville Fire Department will be there helping roast marshmallows for a sweet holiday treat. It's a night full of music\, laughter\, and holiday spirit for all ages!
X-ALT-DESC;FMTTYPE=text/html:<span style="color: rgb(20\, 24\, 39)\; font-family: Montserrat\; font-size: 18px\; font-variant-ligatures: normal\; orphans: 2\; widows: 2\; text-decoration-thickness: initial\;">Get ready for a festive evening at our Family Jingle Jam! Join us downtown on Friday\, November 21\, from 6:00 to 9:00 pm for a fun-filled block party featuring live music from Analog Saints\, food and drink vendors\, and plenty of family activities. The Hartsville Fire Department will be there helping roast marshmallows for a sweet holiday treat. It&rsquo\;s a night full of music\, laughter\, and holiday spirit for all ages!</span>
LOCATION:East College Ave. Downtown Hartsville
UID:e.2045.3458
SEQUENCE:3
DTSTAMP:20260425T110644Z
URL:https://www.hartsvillechamber.org/events/details/heart-of-the-holidays-family-jingle-jam-3458
END:VEVENT

END:VCALENDAR
