BEGIN:VCALENDAR
VERSION:2.0
PRODID:-//ChamberMaster//Event Calendar 2.0//EN
METHOD:PUBLISH
X-PUBLISHED-TTL:P3D
REFRESH-INTERVAL:P3D
CALSCALE:GREGORIAN
BEGIN:VEVENT
DTSTART:20251206T180000Z
DTEND:20251206T210000Z
X-MICROSOFT-CDO-ALLDAYEVENT:FALSE
SUMMARY:Heart of the Holidays Pictures with Santa
DESCRIPTION:Capture a special holiday memory with Pictures with Santa at the Hartsville Museum on Saturday\, December 6\, from 1:00 to 4:00pm! Bring your own camera and snap a festive photo with Santa before the parade begins. It's the perfect way to add a little extra holiday magic to your day in downtown Hartsville.
X-ALT-DESC;FMTTYPE=text/html:<span style="color: rgb(20\, 24\, 39)\; font-family: Montserrat\; font-size: 18px\; font-variant-ligatures: normal\; orphans: 2\; widows: 2\; text-decoration-thickness: initial\;">Capture a special holiday memory with&nbsp\;</span><strong data-end="148" data-start="125" style="box-sizing: border-box\; color: rgb(20\, 24\, 39)\; font-family: Montserrat\; font-size: 18px\; font-variant-ligatures: normal\; orphans: 2\; widows: 2\; text-decoration-thickness: initial\;">Pictures with Santa</strong><span style="color: rgb(20\, 24\, 39)\; font-family: Montserrat\; font-size: 18px\; font-variant-ligatures: normal\; orphans: 2\; widows: 2\; text-decoration-thickness: initial\;">&nbsp\;at the Hartsville Museum on Saturday\, December 6\, from 1:00 to 4:00pm! Bring your own camera and snap a festive photo with Santa before the parade begins. It&rsquo\;s the perfect way to add a little extra holiday magic to your day in downtown Hartsville.</span>
LOCATION:Hartsville Museum 222 North Fifth St Hartsville SC 29550
UID:e.2045.3461
SEQUENCE:3
DTSTAMP:20260425T122251Z
URL:https://www.hartsvillechamber.org/events/details/heart-of-the-holidays-pictures-with-santa-3461
END:VEVENT

END:VCALENDAR
