BEGIN:VCALENDAR
VERSION:2.0
PRODID:-//ChamberMaster//Event Calendar 2.0//EN
METHOD:PUBLISH
X-PUBLISHED-TTL:P3D
REFRESH-INTERVAL:P3D
CALSCALE:GREGORIAN
BEGIN:VEVENT
DTSTART:20251218T230000Z
DTEND:20251219T020000Z
X-MICROSOFT-CDO-ALLDAYEVENT:FALSE
SUMMARY:Heart of the Holidays Santa's Last Call
DESCRIPTION:Finish your holiday shopping in festive style during Santa's Last Call on Wednesday\, December 18\, from 6:00 to 9:00pm! Our downtown businesses will stay open late to help you find those perfect last-minute gifts\, treats\, and stocking stuffers. Take a stroll through beautifully decorated downtown Hartsville\, enjoy the warm holiday atmosphere\, and support our local shops as we celebrate the final shopping night of the season.
X-ALT-DESC;FMTTYPE=text/html:<span style="color: rgb(20\, 24\, 39)\; font-family: Montserrat\; font-size: 18px\; font-variant-ligatures: normal\; orphans: 2\; widows: 2\; text-decoration-thickness: initial\;">Finish your holiday shopping in festive style during Santa&rsquo\;s Last Call on Wednesday\, December 18\, from 6:00 to 9:00pm! Our downtown businesses will stay open late to help you find those perfect last-minute gifts\, treats\, and stocking stuffers. Take a stroll through beautifully decorated downtown Hartsville\, enjoy the warm holiday atmosphere\, and support our local shops as we celebrate the final shopping night of the season.</span>
LOCATION:Downtown Hartsville
UID:e.2045.3462
SEQUENCE:3
DTSTAMP:20260425T122224Z
URL:https://www.hartsvillechamber.org/events/details/heart-of-the-holidays-santa-s-last-call-3462
END:VEVENT

END:VCALENDAR
