BEGIN:VCALENDAR
VERSION:2.0
PRODID:-//ChamberMaster//Event Calendar 2.0//EN
METHOD:PUBLISH
X-PUBLISHED-TTL:P3D
REFRESH-INTERVAL:P3D
CALSCALE:GREGORIAN
BEGIN:VEVENT
DTSTART:20251202T000000Z
DTEND:20251202T010000Z
X-MICROSOFT-CDO-ALLDAYEVENT:FALSE
SUMMARY:Holiday Extravaganza
DESCRIPTION:Holiday Extravaganza \n\nDecember 1\, 7 p.m.\, St. Bartholomew's Episcopal Church and Watson Theater\n\nThe Coker Concert Band\, Coker Singers\, and Coker Contemporary Chorus are joining for an evening of music\, festivity\, and community. This concert will begin with the Coker choirs in St. Bartholomew's Episcopal Church\, directed by Dr. Kevin Crowe. After a brief intermission and reception\, the concert will continue in Watson Theater with Deron Jimmerson leading the Coker Concert Band. We'll have combined music\, audience singalongs\, and even some special holiday treats! Make this new tradition part of your family's holiday season.
X-ALT-DESC;FMTTYPE=text/html:<p><strong>Holiday Extravaganza&nbsp\;</strong></p>\n\n<p><strong>December 1\, 7 p.m.\, St. Bartholomew&rsquo\;s Episcopal Church and Watson Theater</strong></p>\n\n<p><span style="background-color:transparent\; color:rgb(0\, 0\, 0)\; font-family:helvetica neue\,sans-serif\; font-size:10pt">The Coker Concert Band\, Coker Singers\, and Coker Contemporary Chorus are joining for an evening of music\, festivity\, and community. This concert will begin with the Coker choirs in St. Bartholomew&rsquo\;s Episcopal Church\, directed by Dr. Kevin Crowe. After a brief intermission and reception\, the concert will continue in Watson Theater with Deron Jimmerson leading the Coker Concert Band. We&#39\;ll have combined music\, audience singalongs\, and even some special holiday treats! Make this new tradition part of your family&rsquo\;s holiday season.&nbsp\;</span></p>\n\n<div>&nbsp\;</div>\n
LOCATION:St. Bartholomew's Episcopal Church and Watson Theater
UID:e.2045.3433
SEQUENCE:3
DTSTAMP:20260425T104721Z
URL:https://www.hartsvillechamber.org/events/details/holiday-extravaganza-3433
END:VEVENT

END:VCALENDAR
