BEGIN:VCALENDAR
VERSION:2.0
PRODID:-//ChamberMaster//Event Calendar 2.0//EN
METHOD:PUBLISH
X-PUBLISHED-TTL:P3D
REFRESH-INTERVAL:P3D
CALSCALE:GREGORIAN
BEGIN:VEVENT
DTSTART:20241210T003000Z
DTEND:20241210T020000Z
X-MICROSOFT-CDO-ALLDAYEVENT:FALSE
SUMMARY:Holiday Pops Extravaganza
DESCRIPTION:Holiday Pops Extravaganza   December 9\, 7:30 p.m.\, Watson Theater\; $5 students/seniors\, $10 General Admission\n\nJoin the Coker University Music Program for the 4th Annual Holiday Pops Extravaganza. This highly popular concert has previously featured performances by the Coker University Concert Band\, Repertory Dance Company\, and more. You will not want to miss this chance to kickstart your holiday season.
X-ALT-DESC;FMTTYPE=text/html:<p><strong>Holiday Pops Extravaganza &ndash\; December 9\, 7:30 p.m.\, Watson Theater\; $5 students/seniors\, $10 General Admission</strong><br />\nJoin the Coker University Music Program for the 4th Annual Holiday Pops Extravaganza. This highly popular concert has previously featured performances by the Coker University Concert Band\, Repertory Dance Company\, and more. You will not want to miss this chance to kickstart your holiday season.</p>\n
LOCATION:Watson Theater
UID:e.2045.3034
SEQUENCE:3
DTSTAMP:20260425T030446Z
URL:https://www.hartsvillechamber.org/events/details/holiday-pops-extravaganza-3034
END:VEVENT

END:VCALENDAR
