BEGIN:VCALENDAR
VERSION:2.0
PRODID:-//ChamberMaster//Event Calendar 2.0//EN
METHOD:PUBLISH
X-PUBLISHED-TTL:P3D
REFRESH-INTERVAL:P3D
CALSCALE:GREGORIAN
BEGIN:VEVENT
DTSTART;VALUE=DATE:20241211
DTEND;VALUE=DATE:20241212
TRANSP:TRANSPARENT
X-MICROSOFT-CDO-ALLDAYEVENT:TRUE
SUMMARY:Holiday Wreath Making Class
DESCRIPTION:Holiday wreath-making workshop at the Joslin Education Center. Natural materials and frames will be provided for each participant to make an evergreen and grapevine wreath. Pre-registration is required\, and the cost is $50. Contact Chris at cpierce@coker.edu for details or to register.
X-ALT-DESC;FMTTYPE=text/html:Holiday wreath-making workshop at the Joslin Education Center. Natural materials and frames will be provided for each participant to make an evergreen and grapevine wreath. Pre-registration is required\, and the cost is $50. Contact Chris at cpierce@coker.edu for details or to register.
LOCATION:Joslin Education Center 1520 W Carolina Ave\, Hartsville\, SC 29550
UID:e.2045.3182
SEQUENCE:3
DTSTAMP:20260425T011800Z
URL:https://www.hartsvillechamber.org/events/details/holiday-wreath-making-class-3182
END:VEVENT

END:VCALENDAR
