BEGIN:VCALENDAR
VERSION:2.0
PRODID:-//ChamberMaster//Event Calendar 2.0//EN
METHOD:PUBLISH
X-PUBLISHED-TTL:P3D
REFRESH-INTERVAL:P3D
CALSCALE:GREGORIAN
BEGIN:VEVENT
DTSTART:20240423T233000Z
DTEND:20240424T013000Z
X-MICROSOFT-CDO-ALLDAYEVENT:FALSE
SUMMARY:Informal Dance Concert
DESCRIPTION:Informal Dance Concert at the Watson Theater\, April 23 7:30 p.m.\n\nThis concert will feature performances by students in various dance classes such as modern\, jazz\, or musical theatre as well as student choreography. Venomous Hip Hop Dance Club and Coker Repertory Dance Company will also perform.
X-ALT-DESC;FMTTYPE=text/html:<p><strong>Informal Dance Concert at the Watson Theater\, April 23 7:30 p.m.</strong><br />\nThis concert will feature performances by students in various dance classes such as modern\, jazz\, or musical theatre as well as student choreography. Venomous Hip Hop Dance Club and Coker Repertory Dance Company will also perform.</p>\n
LOCATION:Watson Theater
UID:e.2045.2543
SEQUENCE:3
DTSTAMP:20260425T155809Z
URL:https://www.hartsvillechamber.org/events/details/informal-dance-concert-04-23-2024-2543
END:VEVENT

END:VCALENDAR
