BEGIN:VCALENDAR
VERSION:2.0
PRODID:-//ChamberMaster//Event Calendar 2.0//EN
METHOD:PUBLISH
X-PUBLISHED-TTL:P3D
REFRESH-INTERVAL:P3D
CALSCALE:GREGORIAN
BEGIN:VEVENT
DTSTART:20250423T233000Z
DTEND:20250424T010000Z
X-MICROSOFT-CDO-ALLDAYEVENT:FALSE
SUMMARY:Informal Dance Concert
DESCRIPTION:Informal Dance Concert at the Watson Theater\, 7:30pm\n\nThis concert will feature performances by students in various dance classes such as modern\, jazz\, or musical theatre as well as student choreography. Coker Repertory Dance Company will also perform.
X-ALT-DESC;FMTTYPE=text/html:<p><strong>Informal Dance Concert at the Watson Theater\, 7:30pm</strong><br />\nThis concert will feature performances by students in various dance classes such as modern\, jazz\, or musical theatre as well as student choreography. Coker Repertory Dance Company will also perform.</p>\n
LOCATION:Watson Theater
UID:e.2045.3049
SEQUENCE:3
DTSTAMP:20260424T184835Z
URL:https://www.hartsvillechamber.org/events/details/informal-dance-concert-04-23-2025-3049
END:VEVENT

END:VCALENDAR
