BEGIN:VCALENDAR
VERSION:2.0
PRODID:-//ChamberMaster//Event Calendar 2.0//EN
METHOD:PUBLISH
X-PUBLISHED-TTL:P3D
REFRESH-INTERVAL:P3D
CALSCALE:GREGORIAN
BEGIN:VEVENT
DTSTART:20251204T000000Z
DTEND:20251204T010000Z
X-MICROSOFT-CDO-ALLDAYEVENT:FALSE
SUMMARY:Informal Dance Concert
DESCRIPTION:Dec. 3 at 7 p.m.\, Watson Theater\nThe Informal Dance Concert features performances by students enrolled in dance courses\, and original choreography by students and faculty Dr. Meredith Sims and Professor Natalia Schradle. A variety of dance styles will be presented\, including modern\, jazz\, musical theatre\, contemporary\, and hip hop. Free.
X-ALT-DESC;FMTTYPE=text/html:<p><strong>Dec. 3 at 7 p.m.\, Watson Theater</strong></p>\n<span style="background-color:transparent\; color:rgb(0\, 0\, 0)\; font-family:helvetica neue\,sans-serif\; font-size:10pt">The </span><em>Informal Dance Concert</em><span style="background-color:transparent\; color:rgb(0\, 0\, 0)\; font-family:helvetica neue\,sans-serif\; font-size:10pt"> features performances by students enrolled in dance courses\, and original choreography by students and faculty Dr. Meredith Sims and Professor Natalia Schradle. A variety of dance styles will be presented\, including modern\, jazz\, musical theatre\, contemporary\, and hip hop. Free.</span>
LOCATION:Watson Theater
UID:e.2045.3434
SEQUENCE:3
DTSTAMP:20260425T110137Z
URL:https://www.hartsvillechamber.org/events/details/informal-dance-concert-12-03-2025-3434
END:VEVENT

END:VCALENDAR
