BEGIN:VCALENDAR
VERSION:2.0
PRODID:-//ChamberMaster//Event Calendar 2.0//EN
METHOD:PUBLISH
X-PUBLISHED-TTL:P3D
REFRESH-INTERVAL:P3D
CALSCALE:GREGORIAN
BEGIN:VEVENT
DTSTART:20241205T003000Z
DTEND:20241205T020000Z
X-MICROSOFT-CDO-ALLDAYEVENT:FALSE
SUMMARY:Informal Dance Concert\,
DESCRIPTION:Informal Dance Concert\, 7:30 p.m at the Watson Theater\n\nThis concert will feature performances by students in various dance classes such as modern\, jazz\, or musical theatre as well as student choreography.  Coker Repertory Dance Company will also perform.
X-ALT-DESC;FMTTYPE=text/html:<p><strong>Informal Dance Concert\, 7:30 p.m at the Watson Theater</strong><br />\nThis concert will feature performances by students in various dance classes such as modern\, jazz\, or musical theatre as well as student choreography.&nbsp\; Coker Repertory Dance Company will also perform.</p>\n
LOCATION:Watson Theater
UID:e.2045.3032
SEQUENCE:3
DTSTAMP:20260425T012230Z
URL:https://www.hartsvillechamber.org/events/details/informal-dance-concert-12-04-2024-3032
END:VEVENT

END:VCALENDAR
