BEGIN:VCALENDAR
VERSION:2.0
PRODID:-//ChamberMaster//Event Calendar 2.0//EN
METHOD:PUBLISH
X-PUBLISHED-TTL:P3D
REFRESH-INTERVAL:P3D
CALSCALE:GREGORIAN
BEGIN:VEVENT
DTSTART:20240411T220000Z
DTEND:20240412T000000Z
X-MICROSOFT-CDO-ALLDAYEVENT:FALSE
SUMMARY:Jazzy Poetic: Rhythms of the Soul with Bhakti Larry Hough
DESCRIPTION:Join Bhakti Larry Hough for a night of Poetry\, Spoken Word\, and the Drumbeat to celebrate Jazz Appreciation Month and National Poetry Month! He will perform music and poetry by renowned American jazz artists and poets\, as well as his original music and poetry. There will also be an open mic period during which participants who sign up in advance can recite or read their poetry or writings from their favorite poets\, solo or accompanied by Bhakti on drums. *A glass of wine is included with your ticket! WHEN: Thursday\, April 11th\, 2024 from 6:00-8:00 pm INVESTMENT: $15 To learn more about Bhakti Larry Hough\, please visit his Facebook page at: https://www.facebook.com/Bhaktilarryhough.
X-ALT-DESC;FMTTYPE=text/html:Join Bhakti Larry Hough for a night of Poetry\, Spoken Word\, and the Drumbeat to celebrate Jazz Appreciation Month and National Poetry Month! He will perform music and poetry by renowned American jazz artists and poets\, as well as his original music and poetry. There will also be an open mic period during which participants who sign up in advance can recite or read their poetry or writings from their favorite poets\, solo or accompanied by Bhakti on drums. *A glass of wine is included with your ticket! WHEN: Thursday\, April 11th\, 2024 from 6:00-8:00 pm INVESTMENT: $15 To learn more about Bhakti Larry Hough\, please visit his Facebook page at: https://www.facebook.com/Bhaktilarryhough.
LOCATION:Black Creek Arts
UID:e.2045.2686
SEQUENCE:3
DTSTAMP:20260425T160120Z
URL:https://www.hartsvillechamber.org/events/details/jazzy-poetic-rhythms-of-the-soul-with-bhakti-larry-hough-2686
END:VEVENT

END:VCALENDAR
