BEGIN:VCALENDAR
VERSION:2.0
PRODID:-//ChamberMaster//Event Calendar 2.0//EN
METHOD:PUBLISH
X-PUBLISHED-TTL:P3D
REFRESH-INTERVAL:P3D
CALSCALE:GREGORIAN
BEGIN:VEVENT
DTSTART:20250329T143000Z
DTEND:20250329T170000Z
X-MICROSOFT-CDO-ALLDAYEVENT:FALSE
SUMMARY:Join Coker University Alumni at the Carolina Cup
DESCRIPTION:All Coker University Alumni are invited to join us for a fun and exciting networking event at the Carolina Cup on Saturday\, March 29\, in Camden! Hosted by the Coker Alumni Association and the Coker Black Alumni Network\, and sponsored by the Office of Institutional Advancement\, this is a perfect opportunity to reconnect with fellow alumni\, enjoy a day at the races\, and expand your professional network in a relaxed and vibrant setting. Be sure to stop by Tent 3 in the Meadow between 10:30 am - 1:00 pm and say hello we would love the opportunity to catch up with you.
X-ALT-DESC;FMTTYPE=text/html:All Coker University Alumni are invited to join us for a fun and exciting networking event at the Carolina Cup on Saturday\, March 29\, in Camden! Hosted by the Coker Alumni Association and the Coker Black Alumni Network\, and sponsored by the Office of Institutional Advancement\, this is a perfect opportunity to reconnect with fellow alumni\, enjoy a day at the races\, and expand your professional network in a relaxed and vibrant setting. Be sure to stop by Tent 3 in the Meadow between 10:30 am - 1:00 pm and say hello&mdash\;we would love the opportunity to catch up with you.
LOCATION:The Carolina Cup 200 Knights Hill Road Camden\, SC 29020
UID:e.2045.3287
SEQUENCE:3
DTSTAMP:20260424T215828Z
URL:https://www.hartsvillechamber.org/events/details/join-coker-university-alumni-at-the-carolina-cup-3287
END:VEVENT

END:VCALENDAR
