BEGIN:VCALENDAR
VERSION:2.0
PRODID:-//ChamberMaster//Event Calendar 2.0//EN
METHOD:PUBLISH
X-PUBLISHED-TTL:P3D
REFRESH-INTERVAL:P3D
CALSCALE:GREGORIAN
BEGIN:VEVENT
DTSTART:20240413T140000Z
DTEND:20240413T170000Z
X-MICROSOFT-CDO-ALLDAYEVENT:FALSE
SUMMARY:Kalmia Gardens Earth Day Festival
DESCRIPTION:Once again\, we are excited to host our annual Earth Day Festival. The festival will occur on Saturday\, April 13th\, from 10 a.m. to 1 p.m. There will be vendors of all kinds and fun activities to celebrate our Earth. We will have a free yoga session\, a guided hike\, and live music. If you or someone you know would be a good fit and would like to be an exhibitor for the event\, please get in touch with Elizabeth Floyd about being a part of the festivities before March 25th. Efloyd@coker.edu. We would all love to see you there to celebrate this wonderful day with us.
X-ALT-DESC;FMTTYPE=text/html:<span style="color:rgb(5\, 5\, 5)\; font-family:segoe ui historic\,segoe ui\,helvetica\,arial\,sans-serif\; font-size:15px">Once again\, we are excited to host our annual Earth Day Festival. The festival will occur on Saturday\, April 13th\, from 10 a.m. to 1 p.m. There will be vendors of all kinds and fun activities to celebrate our Earth. We will have a free yoga session\, a guided hike\, and live music. If you or someone you know would be a good fit and would like to be an exhibitor for the event\, please get in touch with Elizabeth Floyd about being a part of the festivities before March 25th.&nbsp\;</span><a href="mailto:Efloyd@coker.edu" style="color: rgb(17\, 85\, 204)\; font-family: &quot\;Segoe UI Historic&quot\;\, &quot\;Segoe UI&quot\;\, Helvetica\, Arial\, sans-serif\; font-size: 15px\;" target="_blank">Efloyd@coker.edu</a><span style="color:rgb(5\, 5\, 5)\; font-family:segoe ui historic\,segoe ui\,helvetica\,arial\,sans-serif\; font-size:15px">. We would all love to see you there to celebrate this wonderful day with us.</span>
LOCATION:The Earth Day Festival will be held at Kalmia Gardens. 1624 Carolina Avenue\, Hartsville\, S.C. 29550.
UID:e.2045.2695
SEQUENCE:3
DTSTAMP:20260423T085717Z
URL:https://www.hartsvillechamber.org/events/details/kalmia-gardens-earth-day-festival-2695
END:VEVENT

END:VCALENDAR
